BEGIN:VCALENDAR
VERSION:2.0
PRODID:-//Nyr&ouml;l&auml;talo - ECPv6.15.20//NONSGML v1.0//EN
CALSCALE:GREGORIAN
METHOD:PUBLISH
X-ORIGINAL-URL:https://www.nyrolatalo.fi
X-WR-CALDESC:Tapahtumat Nyr&ouml;l&auml;talo
REFRESH-INTERVAL;VALUE=DURATION:PT1H
X-Robots-Tag:noindex
X-PUBLISHED-TTL:PT1H
BEGIN:VTIMEZONE
TZID:Europe/Helsinki
BEGIN:DAYLIGHT
TZOFFSETFROM:+0200
TZOFFSETTO:+0300
TZNAME:EEST
DTSTART:20240331T010000
END:DAYLIGHT
BEGIN:STANDARD
TZOFFSETFROM:+0300
TZOFFSETTO:+0200
TZNAME:EET
DTSTART:20241027T010000
END:STANDARD
BEGIN:DAYLIGHT
TZOFFSETFROM:+0200
TZOFFSETTO:+0300
TZNAME:EEST
DTSTART:20250330T010000
END:DAYLIGHT
BEGIN:STANDARD
TZOFFSETFROM:+0300
TZOFFSETTO:+0200
TZNAME:EET
DTSTART:20251026T010000
END:STANDARD
BEGIN:DAYLIGHT
TZOFFSETFROM:+0200
TZOFFSETTO:+0300
TZNAME:EEST
DTSTART:20260329T010000
END:DAYLIGHT
BEGIN:STANDARD
TZOFFSETFROM:+0300
TZOFFSETTO:+0200
TZNAME:EET
DTSTART:20261025T010000
END:STANDARD
END:VTIMEZONE
BEGIN:VEVENT
DTSTART;TZID=Europe/Helsinki:20251001T170000
DTEND;TZID=Europe/Helsinki:20251001T200000
DTSTAMP:20260424T161510
CREATED:20251024T081808Z
LAST-MODIFIED:20251024T081808Z
UID:3109-1759338000-1759348800@www.nyrolatalo.fi
SUMMARY:Talon kässäilta
DESCRIPTION:
URL:https://www.nyrolatalo.fi/tapahtuma/talon-kassailta/2025-10-01/
LOCATION:Sali Nyrölätalo\, Jatkolantie 11\, Jyväskylä
CATEGORIES:Muut,TYÖPAJA
ORGANIZER;CN="Nyr%C3%B6l%C3%A4talo":MAILTO:minnamuori@nyrolatalo.fi
END:VEVENT
BEGIN:VEVENT
DTSTART;TZID=Europe/Helsinki:20251002T174500
DTEND;TZID=Europe/Helsinki:20251002T193000
DTSTAMP:20260424T161510
CREATED:20251024T082301Z
LAST-MODIFIED:20251024T083520Z
UID:3121-1759427100-1759433400@www.nyrolatalo.fi
SUMMARY:LASTEN LIIKKAKERHOT
DESCRIPTION:
URL:https://www.nyrolatalo.fi/tapahtuma/liikkakerhot/2025-10-02/
LOCATION:Jumppis Nyrölätalo\, Jatkolantie 11\, Jyväskylä
CATEGORIES:Liikunta
END:VEVENT
BEGIN:VEVENT
DTSTART;TZID=Europe/Helsinki:20251006T180000
DTEND;TZID=Europe/Helsinki:20251006T190000
DTSTAMP:20260424T161510
CREATED:20250908T171700Z
LAST-MODIFIED:20250908T171700Z
UID:3066-1759773600-1759777200@www.nyrolatalo.fi
SUMMARY:JUMPPA KLO 18-19
DESCRIPTION:
URL:https://www.nyrolatalo.fi/tapahtuma/jumppa-klo-18-19/2025-10-06/
LOCATION:Jumppis Nyrölätalo\, Jatkolantie 11\, Jyväskylä
CATEGORIES:Liikunta
END:VEVENT
BEGIN:VEVENT
DTSTART;TZID=Europe/Helsinki:20251007T191500
DTEND;TZID=Europe/Helsinki:20251007T201500
DTSTAMP:20260424T161510
CREATED:20250909T094612Z
LAST-MODIFIED:20250909T094612Z
UID:3076-1759864500-1759868100@www.nyrolatalo.fi
SUMMARY:PILATES 19.15-20.15
DESCRIPTION:
URL:https://www.nyrolatalo.fi/tapahtuma/pilates-19-15-20-15-15/2025-10-07/
LOCATION:Jumppis Nyrölätalo\, Jatkolantie 11\, Jyväskylä
CATEGORIES:Liikunta
END:VEVENT
BEGIN:VEVENT
DTSTART;TZID=Europe/Helsinki:20251008T170000
DTEND;TZID=Europe/Helsinki:20251008T200000
DTSTAMP:20260424T161510
CREATED:20251024T081808Z
LAST-MODIFIED:20251024T081808Z
UID:3110-1759942800-1759953600@www.nyrolatalo.fi
SUMMARY:Talon kässäilta
DESCRIPTION:
URL:https://www.nyrolatalo.fi/tapahtuma/talon-kassailta/2025-10-08/
LOCATION:Sali Nyrölätalo\, Jatkolantie 11\, Jyväskylä
CATEGORIES:Muut,TYÖPAJA
ORGANIZER;CN="Nyr%C3%B6l%C3%A4talo":MAILTO:minnamuori@nyrolatalo.fi
END:VEVENT
BEGIN:VEVENT
DTSTART;TZID=Europe/Helsinki:20251009T174500
DTEND;TZID=Europe/Helsinki:20251009T193000
DTSTAMP:20260424T161510
CREATED:20251024T082301Z
LAST-MODIFIED:20251024T083520Z
UID:3122-1760031900-1760038200@www.nyrolatalo.fi
SUMMARY:LASTEN LIIKKAKERHOT
DESCRIPTION:
URL:https://www.nyrolatalo.fi/tapahtuma/liikkakerhot/2025-10-09/
LOCATION:Jumppis Nyrölätalo\, Jatkolantie 11\, Jyväskylä
CATEGORIES:Liikunta
END:VEVENT
BEGIN:VEVENT
DTSTART;TZID=Europe/Helsinki:20251010T200000
DTEND;TZID=Europe/Helsinki:20251011T080000
DTSTAMP:20260424T161510
CREATED:20250909T100019Z
LAST-MODIFIED:20250909T100019Z
UID:3088-1760126400-1760169600@www.nyrolatalo.fi
SUMMARY:NUORISOPAKU YÖNUOKKARI
DESCRIPTION:
URL:https://www.nyrolatalo.fi/tapahtuma/nuorisopaku-yonuokkari/
LOCATION:Nyrölätalo\, Jatkolantia 11\, Jyväskylä\, 41140
CATEGORIES:Liikunta,Muut
END:VEVENT
BEGIN:VEVENT
DTSTART;TZID=Europe/Helsinki:20251013T180000
DTEND;TZID=Europe/Helsinki:20251013T190000
DTSTAMP:20260424T161510
CREATED:20250908T171700Z
LAST-MODIFIED:20250908T171700Z
UID:3067-1760378400-1760382000@www.nyrolatalo.fi
SUMMARY:JUMPPA KLO 18-19
DESCRIPTION:
URL:https://www.nyrolatalo.fi/tapahtuma/jumppa-klo-18-19/2025-10-13/
LOCATION:Jumppis Nyrölätalo\, Jatkolantie 11\, Jyväskylä
CATEGORIES:Liikunta
END:VEVENT
BEGIN:VEVENT
DTSTART;TZID=Europe/Helsinki:20251014T170000
DTEND;TZID=Europe/Helsinki:20251014T190000
DTSTAMP:20260424T161510
CREATED:20251024T082938Z
LAST-MODIFIED:20251024T082938Z
UID:3135-1760461200-1760468400@www.nyrolatalo.fi
SUMMARY:NUORISOPAKU TALOLLA
DESCRIPTION:
URL:https://www.nyrolatalo.fi/tapahtuma/nuorisopaku-talolla/2025-10-14/
LOCATION:Nyrölätalo\, Jatkolantia 11\, Jyväskylä\, 41140
CATEGORIES:Liikunta,Muut
END:VEVENT
BEGIN:VEVENT
DTSTART;TZID=Europe/Helsinki:20251014T191500
DTEND;TZID=Europe/Helsinki:20251014T201500
DTSTAMP:20260424T161510
CREATED:20250909T094612Z
LAST-MODIFIED:20250909T094612Z
UID:3077-1760469300-1760472900@www.nyrolatalo.fi
SUMMARY:PILATES 19.15-20.15
DESCRIPTION:
URL:https://www.nyrolatalo.fi/tapahtuma/pilates-19-15-20-15-15/2025-10-14/
LOCATION:Jumppis Nyrölätalo\, Jatkolantie 11\, Jyväskylä
CATEGORIES:Liikunta
END:VEVENT
BEGIN:VEVENT
DTSTART;TZID=Europe/Helsinki:20251020T180000
DTEND;TZID=Europe/Helsinki:20251020T190000
DTSTAMP:20260424T161510
CREATED:20250908T171700Z
LAST-MODIFIED:20250908T171700Z
UID:3068-1760983200-1760986800@www.nyrolatalo.fi
SUMMARY:JUMPPA KLO 18-19
DESCRIPTION:
URL:https://www.nyrolatalo.fi/tapahtuma/jumppa-klo-18-19/2025-10-20/
LOCATION:Jumppis Nyrölätalo\, Jatkolantie 11\, Jyväskylä
CATEGORIES:Liikunta
END:VEVENT
BEGIN:VEVENT
DTSTART;TZID=Europe/Helsinki:20251021T191500
DTEND;TZID=Europe/Helsinki:20251021T201500
DTSTAMP:20260424T161510
CREATED:20250909T094612Z
LAST-MODIFIED:20250909T094612Z
UID:3078-1761074100-1761077700@www.nyrolatalo.fi
SUMMARY:PILATES 19.15-20.15
DESCRIPTION:
URL:https://www.nyrolatalo.fi/tapahtuma/pilates-19-15-20-15-15/2025-10-21/
LOCATION:Jumppis Nyrölätalo\, Jatkolantie 11\, Jyväskylä
CATEGORIES:Liikunta
END:VEVENT
BEGIN:VEVENT
DTSTART;TZID=Europe/Helsinki:20251022T170000
DTEND;TZID=Europe/Helsinki:20251022T200000
DTSTAMP:20260424T161510
CREATED:20251024T081808Z
LAST-MODIFIED:20251024T081808Z
UID:3111-1761152400-1761163200@www.nyrolatalo.fi
SUMMARY:Talon kässäilta
DESCRIPTION:
URL:https://www.nyrolatalo.fi/tapahtuma/talon-kassailta/2025-10-22/
LOCATION:Sali Nyrölätalo\, Jatkolantie 11\, Jyväskylä
CATEGORIES:Muut,TYÖPAJA
ORGANIZER;CN="Nyr%C3%B6l%C3%A4talo":MAILTO:minnamuori@nyrolatalo.fi
END:VEVENT
BEGIN:VEVENT
DTSTART;TZID=Europe/Helsinki:20251023T174500
DTEND;TZID=Europe/Helsinki:20251023T193000
DTSTAMP:20260424T161510
CREATED:20251024T082301Z
LAST-MODIFIED:20251024T083520Z
UID:3123-1761241500-1761247800@www.nyrolatalo.fi
SUMMARY:LASTEN LIIKKAKERHOT
DESCRIPTION:
URL:https://www.nyrolatalo.fi/tapahtuma/liikkakerhot/2025-10-23/
LOCATION:Jumppis Nyrölätalo\, Jatkolantie 11\, Jyväskylä
CATEGORIES:Liikunta
END:VEVENT
BEGIN:VEVENT
DTSTART;TZID=Europe/Helsinki:20251027T180000
DTEND;TZID=Europe/Helsinki:20251027T190000
DTSTAMP:20260424T161510
CREATED:20250908T171700Z
LAST-MODIFIED:20250908T171700Z
UID:3069-1761588000-1761591600@www.nyrolatalo.fi
SUMMARY:JUMPPA KLO 18-19
DESCRIPTION:
URL:https://www.nyrolatalo.fi/tapahtuma/jumppa-klo-18-19/2025-10-27/
LOCATION:Jumppis Nyrölätalo\, Jatkolantie 11\, Jyväskylä
CATEGORIES:Liikunta
END:VEVENT
BEGIN:VEVENT
DTSTART;TZID=Europe/Helsinki:20251028T170000
DTEND;TZID=Europe/Helsinki:20251028T190000
DTSTAMP:20260424T161510
CREATED:20251024T082938Z
LAST-MODIFIED:20251024T082938Z
UID:3136-1761670800-1761678000@www.nyrolatalo.fi
SUMMARY:NUORISOPAKU TALOLLA
DESCRIPTION:
URL:https://www.nyrolatalo.fi/tapahtuma/nuorisopaku-talolla/2025-10-28/
LOCATION:Nyrölätalo\, Jatkolantia 11\, Jyväskylä\, 41140
CATEGORIES:Liikunta,Muut
END:VEVENT
BEGIN:VEVENT
DTSTART;TZID=Europe/Helsinki:20251028T191500
DTEND;TZID=Europe/Helsinki:20251028T201500
DTSTAMP:20260424T161510
CREATED:20250909T094612Z
LAST-MODIFIED:20250909T094612Z
UID:3079-1761678900-1761682500@www.nyrolatalo.fi
SUMMARY:PILATES 19.15-20.15
DESCRIPTION:
URL:https://www.nyrolatalo.fi/tapahtuma/pilates-19-15-20-15-15/2025-10-28/
LOCATION:Jumppis Nyrölätalo\, Jatkolantie 11\, Jyväskylä
CATEGORIES:Liikunta
END:VEVENT
BEGIN:VEVENT
DTSTART;TZID=Europe/Helsinki:20251029T170000
DTEND;TZID=Europe/Helsinki:20251029T200000
DTSTAMP:20260424T161510
CREATED:20251024T081808Z
LAST-MODIFIED:20251024T081808Z
UID:3112-1761757200-1761768000@www.nyrolatalo.fi
SUMMARY:Talon kässäilta
DESCRIPTION:
URL:https://www.nyrolatalo.fi/tapahtuma/talon-kassailta/2025-10-29/
LOCATION:Sali Nyrölätalo\, Jatkolantie 11\, Jyväskylä
CATEGORIES:Muut,TYÖPAJA
ORGANIZER;CN="Nyr%C3%B6l%C3%A4talo":MAILTO:minnamuori@nyrolatalo.fi
END:VEVENT
BEGIN:VEVENT
DTSTART;TZID=Europe/Helsinki:20251030T174500
DTEND;TZID=Europe/Helsinki:20251030T193000
DTSTAMP:20260424T161510
CREATED:20251024T082301Z
LAST-MODIFIED:20251024T083521Z
UID:3124-1761846300-1761852600@www.nyrolatalo.fi
SUMMARY:LASTEN LIIKKAKERHOT
DESCRIPTION:
URL:https://www.nyrolatalo.fi/tapahtuma/liikkakerhot/2025-10-30/
LOCATION:Jumppis Nyrölätalo\, Jatkolantie 11\, Jyväskylä
CATEGORIES:Liikunta
END:VEVENT
BEGIN:VEVENT
DTSTART;TZID=Europe/Helsinki:20251031T080000
DTEND;TZID=Europe/Helsinki:20251102T170000
DTSTAMP:20260424T161510
CREATED:20250909T100251Z
LAST-MODIFIED:20250909T100251Z
UID:3091-1761897600-1762102800@www.nyrolatalo.fi
SUMMARY:YKSITYISTILAISUUS
DESCRIPTION:
URL:https://www.nyrolatalo.fi/tapahtuma/yksityistilaisuus-11/
LOCATION:Nyrölätalo\, Jatkolantia 11\, Jyväskylä\, 41140
CATEGORIES:YKSITYISTILAISUUS
END:VEVENT
END:VCALENDAR