BEGIN:VCALENDAR
VERSION:2.0
PRODID:-//Nyr&ouml;l&auml;talo - ECPv6.15.20//NONSGML v1.0//EN
CALSCALE:GREGORIAN
METHOD:PUBLISH
X-WR-CALNAME:Nyr&ouml;l&auml;talo
X-ORIGINAL-URL:https://www.nyrolatalo.fi
X-WR-CALDESC:Tapahtumat Nyr&ouml;l&auml;talo
REFRESH-INTERVAL;VALUE=DURATION:PT1H
X-Robots-Tag:noindex
X-PUBLISHED-TTL:PT1H
BEGIN:VTIMEZONE
TZID:Europe/Helsinki
BEGIN:DAYLIGHT
TZOFFSETFROM:+0200
TZOFFSETTO:+0300
TZNAME:EEST
DTSTART:20250330T010000
END:DAYLIGHT
BEGIN:STANDARD
TZOFFSETFROM:+0300
TZOFFSETTO:+0200
TZNAME:EET
DTSTART:20251026T010000
END:STANDARD
BEGIN:DAYLIGHT
TZOFFSETFROM:+0200
TZOFFSETTO:+0300
TZNAME:EEST
DTSTART:20260329T010000
END:DAYLIGHT
BEGIN:STANDARD
TZOFFSETFROM:+0300
TZOFFSETTO:+0200
TZNAME:EET
DTSTART:20261025T010000
END:STANDARD
BEGIN:DAYLIGHT
TZOFFSETFROM:+0200
TZOFFSETTO:+0300
TZNAME:EEST
DTSTART:20270328T010000
END:DAYLIGHT
BEGIN:STANDARD
TZOFFSETFROM:+0300
TZOFFSETTO:+0200
TZNAME:EET
DTSTART:20271031T010000
END:STANDARD
END:VTIMEZONE
BEGIN:VEVENT
DTSTART;TZID=Europe/Helsinki:20260302T180000
DTEND;TZID=Europe/Helsinki:20260302T190000
DTSTAMP:20260424T172451
CREATED:20260210T192648Z
LAST-MODIFIED:20260210T192648Z
UID:3215-1772474400-1772478000@www.nyrolatalo.fi
SUMMARY:JUMPPA
DESCRIPTION:
URL:https://www.nyrolatalo.fi/tapahtuma/jumppa-2/2026-03-02/
LOCATION:Jumppis Nyrölätalo\, Jatkolantie 11\, Jyväskylä
CATEGORIES:Liikunta
END:VEVENT
BEGIN:VEVENT
DTSTART;TZID=Europe/Helsinki:20260303T192000
DTEND;TZID=Europe/Helsinki:20260303T202000
DTSTAMP:20260424T172451
CREATED:20260210T192937Z
LAST-MODIFIED:20260210T192937Z
UID:3232-1772565600-1772569200@www.nyrolatalo.fi
SUMMARY:PILATES
DESCRIPTION:
URL:https://www.nyrolatalo.fi/tapahtuma/pilates-3/2026-03-03/
LOCATION:Jumppis Nyrölätalo\, Jatkolantie 11\, Jyväskylä
CATEGORIES:Liikunta
END:VEVENT
BEGIN:VEVENT
DTSTART;TZID=Europe/Helsinki:20260305T174500
DTEND;TZID=Europe/Helsinki:20260305T174500
DTSTAMP:20260424T172451
CREATED:20260210T194440Z
LAST-MODIFIED:20260210T194440Z
UID:3265-1772732700-1772732700@www.nyrolatalo.fi
SUMMARY:LIIKKARI PIENET 17.45-18.30 ISOT
DESCRIPTION:
URL:https://www.nyrolatalo.fi/tapahtuma/liikkari-pienet-17-45-18-30-isot/2026-03-05/
END:VEVENT
BEGIN:VEVENT
DTSTART;TZID=Europe/Helsinki:20260309T180000
DTEND;TZID=Europe/Helsinki:20260309T190000
DTSTAMP:20260424T172451
CREATED:20260210T192648Z
LAST-MODIFIED:20260210T192648Z
UID:3216-1773079200-1773082800@www.nyrolatalo.fi
SUMMARY:JUMPPA
DESCRIPTION:
URL:https://www.nyrolatalo.fi/tapahtuma/jumppa-2/2026-03-09/
LOCATION:Jumppis Nyrölätalo\, Jatkolantie 11\, Jyväskylä
CATEGORIES:Liikunta
END:VEVENT
BEGIN:VEVENT
DTSTART;TZID=Europe/Helsinki:20260310T192000
DTEND;TZID=Europe/Helsinki:20260310T202000
DTSTAMP:20260424T172451
CREATED:20260210T192937Z
LAST-MODIFIED:20260210T192937Z
UID:3233-1773170400-1773174000@www.nyrolatalo.fi
SUMMARY:PILATES
DESCRIPTION:
URL:https://www.nyrolatalo.fi/tapahtuma/pilates-3/2026-03-10/
LOCATION:Jumppis Nyrölätalo\, Jatkolantie 11\, Jyväskylä
CATEGORIES:Liikunta
END:VEVENT
BEGIN:VEVENT
DTSTART;TZID=Europe/Helsinki:20260312T174500
DTEND;TZID=Europe/Helsinki:20260312T174500
DTSTAMP:20260424T172451
CREATED:20260210T194440Z
LAST-MODIFIED:20260210T194440Z
UID:3266-1773337500-1773337500@www.nyrolatalo.fi
SUMMARY:LIIKKARI PIENET 17.45-18.30 ISOT
DESCRIPTION:
URL:https://www.nyrolatalo.fi/tapahtuma/liikkari-pienet-17-45-18-30-isot/2026-03-12/
END:VEVENT
BEGIN:VEVENT
DTSTART;TZID=Europe/Helsinki:20260316T180000
DTEND;TZID=Europe/Helsinki:20260316T190000
DTSTAMP:20260424T172451
CREATED:20260210T192648Z
LAST-MODIFIED:20260210T192648Z
UID:3217-1773684000-1773687600@www.nyrolatalo.fi
SUMMARY:JUMPPA
DESCRIPTION:
URL:https://www.nyrolatalo.fi/tapahtuma/jumppa-2/2026-03-16/
LOCATION:Jumppis Nyrölätalo\, Jatkolantie 11\, Jyväskylä
CATEGORIES:Liikunta
END:VEVENT
BEGIN:VEVENT
DTSTART;TZID=Europe/Helsinki:20260317T192000
DTEND;TZID=Europe/Helsinki:20260317T202000
DTSTAMP:20260424T172451
CREATED:20260210T192937Z
LAST-MODIFIED:20260210T192937Z
UID:3234-1773775200-1773778800@www.nyrolatalo.fi
SUMMARY:PILATES
DESCRIPTION:
URL:https://www.nyrolatalo.fi/tapahtuma/pilates-3/2026-03-17/
LOCATION:Jumppis Nyrölätalo\, Jatkolantie 11\, Jyväskylä
CATEGORIES:Liikunta
END:VEVENT
BEGIN:VEVENT
DTSTART;TZID=Europe/Helsinki:20260319T174500
DTEND;TZID=Europe/Helsinki:20260319T174500
DTSTAMP:20260424T172451
CREATED:20260210T194440Z
LAST-MODIFIED:20260210T194440Z
UID:3267-1773942300-1773942300@www.nyrolatalo.fi
SUMMARY:LIIKKARI PIENET 17.45-18.30 ISOT
DESCRIPTION:
URL:https://www.nyrolatalo.fi/tapahtuma/liikkari-pienet-17-45-18-30-isot/2026-03-19/
END:VEVENT
BEGIN:VEVENT
DTSTART;TZID=Europe/Helsinki:20260323T180000
DTEND;TZID=Europe/Helsinki:20260323T190000
DTSTAMP:20260424T172451
CREATED:20260210T192648Z
LAST-MODIFIED:20260210T192648Z
UID:3219-1774288800-1774292400@www.nyrolatalo.fi
SUMMARY:JUMPPA
DESCRIPTION:
URL:https://www.nyrolatalo.fi/tapahtuma/jumppa-2/2026-03-23/
LOCATION:Jumppis Nyrölätalo\, Jatkolantie 11\, Jyväskylä
CATEGORIES:Liikunta
END:VEVENT
BEGIN:VEVENT
DTSTART;TZID=Europe/Helsinki:20260324T192000
DTEND;TZID=Europe/Helsinki:20260324T202000
DTSTAMP:20260424T172451
CREATED:20260210T192937Z
LAST-MODIFIED:20260210T192937Z
UID:3236-1774380000-1774383600@www.nyrolatalo.fi
SUMMARY:PILATES
DESCRIPTION:
URL:https://www.nyrolatalo.fi/tapahtuma/pilates-3/2026-03-24/
LOCATION:Jumppis Nyrölätalo\, Jatkolantie 11\, Jyväskylä
CATEGORIES:Liikunta
END:VEVENT
BEGIN:VEVENT
DTSTART;TZID=Europe/Helsinki:20260326T174500
DTEND;TZID=Europe/Helsinki:20260326T174500
DTSTAMP:20260424T172451
CREATED:20260210T194440Z
LAST-MODIFIED:20260210T194440Z
UID:3269-1774547100-1774547100@www.nyrolatalo.fi
SUMMARY:LIIKKARI PIENET 17.45-18.30 ISOT
DESCRIPTION:
URL:https://www.nyrolatalo.fi/tapahtuma/liikkari-pienet-17-45-18-30-isot/2026-03-26/
END:VEVENT
BEGIN:VEVENT
DTSTART;TZID=Europe/Helsinki:20260330T180000
DTEND;TZID=Europe/Helsinki:20260330T190000
DTSTAMP:20260424T172451
CREATED:20260210T192648Z
LAST-MODIFIED:20260210T192648Z
UID:3220-1774893600-1774897200@www.nyrolatalo.fi
SUMMARY:JUMPPA
DESCRIPTION:
URL:https://www.nyrolatalo.fi/tapahtuma/jumppa-2/2026-03-30/
LOCATION:Jumppis Nyrölätalo\, Jatkolantie 11\, Jyväskylä
CATEGORIES:Liikunta
END:VEVENT
BEGIN:VEVENT
DTSTART;TZID=Europe/Helsinki:20260331T192000
DTEND;TZID=Europe/Helsinki:20260331T202000
DTSTAMP:20260424T172451
CREATED:20260210T192937Z
LAST-MODIFIED:20260210T192937Z
UID:3237-1774984800-1774988400@www.nyrolatalo.fi
SUMMARY:PILATES
DESCRIPTION:
URL:https://www.nyrolatalo.fi/tapahtuma/pilates-3/2026-03-31/
LOCATION:Jumppis Nyrölätalo\, Jatkolantie 11\, Jyväskylä
CATEGORIES:Liikunta
END:VEVENT
END:VCALENDAR