BEGIN:VCALENDAR
VERSION:2.0
PRODID:-//Nyr&ouml;l&auml;talo - ECPv6.15.20//NONSGML v1.0//EN
CALSCALE:GREGORIAN
METHOD:PUBLISH
X-WR-CALNAME:Nyr&ouml;l&auml;talo
X-ORIGINAL-URL:https://www.nyrolatalo.fi
X-WR-CALDESC:Tapahtumat Nyr&ouml;l&auml;talo
REFRESH-INTERVAL;VALUE=DURATION:PT1H
X-Robots-Tag:noindex
X-PUBLISHED-TTL:PT1H
BEGIN:VTIMEZONE
TZID:Europe/Helsinki
BEGIN:DAYLIGHT
TZOFFSETFROM:+0200
TZOFFSETTO:+0300
TZNAME:EEST
DTSTART:20250330T010000
END:DAYLIGHT
BEGIN:STANDARD
TZOFFSETFROM:+0300
TZOFFSETTO:+0200
TZNAME:EET
DTSTART:20251026T010000
END:STANDARD
BEGIN:DAYLIGHT
TZOFFSETFROM:+0200
TZOFFSETTO:+0300
TZNAME:EEST
DTSTART:20260329T010000
END:DAYLIGHT
BEGIN:STANDARD
TZOFFSETFROM:+0300
TZOFFSETTO:+0200
TZNAME:EET
DTSTART:20261025T010000
END:STANDARD
BEGIN:DAYLIGHT
TZOFFSETFROM:+0200
TZOFFSETTO:+0300
TZNAME:EEST
DTSTART:20270328T010000
END:DAYLIGHT
BEGIN:STANDARD
TZOFFSETFROM:+0300
TZOFFSETTO:+0200
TZNAME:EET
DTSTART:20271031T010000
END:STANDARD
END:VTIMEZONE
BEGIN:VEVENT
DTSTART;TZID=Europe/Helsinki:20260202T180000
DTEND;TZID=Europe/Helsinki:20260202T190000
DTSTAMP:20260424T190030
CREATED:20260210T192648Z
LAST-MODIFIED:20260210T192648Z
UID:3211-1770055200-1770058800@www.nyrolatalo.fi
SUMMARY:JUMPPA
DESCRIPTION:
URL:https://www.nyrolatalo.fi/tapahtuma/jumppa-2/2026-02-02/
LOCATION:Jumppis Nyrölätalo\, Jatkolantie 11\, Jyväskylä
CATEGORIES:Liikunta
END:VEVENT
BEGIN:VEVENT
DTSTART;TZID=Europe/Helsinki:20260203T192000
DTEND;TZID=Europe/Helsinki:20260203T202000
DTSTAMP:20260424T190030
CREATED:20260210T192937Z
LAST-MODIFIED:20260210T192937Z
UID:3228-1770146400-1770150000@www.nyrolatalo.fi
SUMMARY:PILATES
DESCRIPTION:
URL:https://www.nyrolatalo.fi/tapahtuma/pilates-3/2026-02-03/
LOCATION:Jumppis Nyrölätalo\, Jatkolantie 11\, Jyväskylä
CATEGORIES:Liikunta
END:VEVENT
BEGIN:VEVENT
DTSTART;TZID=Europe/Helsinki:20260205T174500
DTEND;TZID=Europe/Helsinki:20260205T174500
DTSTAMP:20260424T190030
CREATED:20260210T194440Z
LAST-MODIFIED:20260210T194440Z
UID:3261-1770313500-1770313500@www.nyrolatalo.fi
SUMMARY:LIIKKARI PIENET 17.45-18.30 ISOT
DESCRIPTION:
URL:https://www.nyrolatalo.fi/tapahtuma/liikkari-pienet-17-45-18-30-isot/2026-02-05/
END:VEVENT
BEGIN:VEVENT
DTSTART;TZID=Europe/Helsinki:20260209T180000
DTEND;TZID=Europe/Helsinki:20260209T190000
DTSTAMP:20260424T190030
CREATED:20260210T192648Z
LAST-MODIFIED:20260210T192648Z
UID:3212-1770660000-1770663600@www.nyrolatalo.fi
SUMMARY:JUMPPA
DESCRIPTION:
URL:https://www.nyrolatalo.fi/tapahtuma/jumppa-2/2026-02-09/
LOCATION:Jumppis Nyrölätalo\, Jatkolantie 11\, Jyväskylä
CATEGORIES:Liikunta
END:VEVENT
BEGIN:VEVENT
DTSTART;TZID=Europe/Helsinki:20260210T192000
DTEND;TZID=Europe/Helsinki:20260210T202000
DTSTAMP:20260424T190030
CREATED:20260210T192937Z
LAST-MODIFIED:20260210T192937Z
UID:3229-1770751200-1770754800@www.nyrolatalo.fi
SUMMARY:PILATES
DESCRIPTION:
URL:https://www.nyrolatalo.fi/tapahtuma/pilates-3/2026-02-10/
LOCATION:Jumppis Nyrölätalo\, Jatkolantie 11\, Jyväskylä
CATEGORIES:Liikunta
END:VEVENT
BEGIN:VEVENT
DTSTART;TZID=Europe/Helsinki:20260212T174500
DTEND;TZID=Europe/Helsinki:20260212T174500
DTSTAMP:20260424T190030
CREATED:20260210T194440Z
LAST-MODIFIED:20260210T194440Z
UID:3262-1770918300-1770918300@www.nyrolatalo.fi
SUMMARY:LIIKKARI PIENET 17.45-18.30 ISOT
DESCRIPTION:
URL:https://www.nyrolatalo.fi/tapahtuma/liikkari-pienet-17-45-18-30-isot/2026-02-12/
END:VEVENT
BEGIN:VEVENT
DTSTART;TZID=Europe/Helsinki:20260216T180000
DTEND;TZID=Europe/Helsinki:20260216T190000
DTSTAMP:20260424T190030
CREATED:20260210T192648Z
LAST-MODIFIED:20260210T192648Z
UID:3213-1771264800-1771268400@www.nyrolatalo.fi
SUMMARY:JUMPPA
DESCRIPTION:
URL:https://www.nyrolatalo.fi/tapahtuma/jumppa-2/2026-02-16/
LOCATION:Jumppis Nyrölätalo\, Jatkolantie 11\, Jyväskylä
CATEGORIES:Liikunta
END:VEVENT
BEGIN:VEVENT
DTSTART;TZID=Europe/Helsinki:20260217T192000
DTEND;TZID=Europe/Helsinki:20260217T202000
DTSTAMP:20260424T190030
CREATED:20260210T192937Z
LAST-MODIFIED:20260210T192937Z
UID:3230-1771356000-1771359600@www.nyrolatalo.fi
SUMMARY:PILATES
DESCRIPTION:
URL:https://www.nyrolatalo.fi/tapahtuma/pilates-3/2026-02-17/
LOCATION:Jumppis Nyrölätalo\, Jatkolantie 11\, Jyväskylä
CATEGORIES:Liikunta
END:VEVENT
BEGIN:VEVENT
DTSTART;TZID=Europe/Helsinki:20260219T174500
DTEND;TZID=Europe/Helsinki:20260219T174500
DTSTAMP:20260424T190030
CREATED:20260210T194440Z
LAST-MODIFIED:20260210T194440Z
UID:3263-1771523100-1771523100@www.nyrolatalo.fi
SUMMARY:LIIKKARI PIENET 17.45-18.30 ISOT
DESCRIPTION:
URL:https://www.nyrolatalo.fi/tapahtuma/liikkari-pienet-17-45-18-30-isot/2026-02-19/
END:VEVENT
BEGIN:VEVENT
DTSTART;TZID=Europe/Helsinki:20260223T180000
DTEND;TZID=Europe/Helsinki:20260223T190000
DTSTAMP:20260424T190030
CREATED:20260210T192648Z
LAST-MODIFIED:20260210T192648Z
UID:3214-1771869600-1771873200@www.nyrolatalo.fi
SUMMARY:JUMPPA
DESCRIPTION:
URL:https://www.nyrolatalo.fi/tapahtuma/jumppa-2/2026-02-23/
LOCATION:Jumppis Nyrölätalo\, Jatkolantie 11\, Jyväskylä
CATEGORIES:Liikunta
END:VEVENT
BEGIN:VEVENT
DTSTART;TZID=Europe/Helsinki:20260224T192000
DTEND;TZID=Europe/Helsinki:20260224T202000
DTSTAMP:20260424T190030
CREATED:20260210T192937Z
LAST-MODIFIED:20260210T192937Z
UID:3231-1771960800-1771964400@www.nyrolatalo.fi
SUMMARY:PILATES
DESCRIPTION:
URL:https://www.nyrolatalo.fi/tapahtuma/pilates-3/2026-02-24/
LOCATION:Jumppis Nyrölätalo\, Jatkolantie 11\, Jyväskylä
CATEGORIES:Liikunta
END:VEVENT
BEGIN:VEVENT
DTSTART;TZID=Europe/Helsinki:20260226T174500
DTEND;TZID=Europe/Helsinki:20260226T174500
DTSTAMP:20260424T190030
CREATED:20260210T194440Z
LAST-MODIFIED:20260210T194440Z
UID:3264-1772127900-1772127900@www.nyrolatalo.fi
SUMMARY:LIIKKARI PIENET 17.45-18.30 ISOT
DESCRIPTION:
URL:https://www.nyrolatalo.fi/tapahtuma/liikkari-pienet-17-45-18-30-isot/2026-02-26/
END:VEVENT
END:VCALENDAR