BEGIN:VCALENDAR
VERSION:2.0
PRODID:-//Nyr&ouml;l&auml;talo - ECPv6.15.20//NONSGML v1.0//EN
CALSCALE:GREGORIAN
METHOD:PUBLISH
X-WR-CALNAME:Nyr&ouml;l&auml;talo
X-ORIGINAL-URL:https://www.nyrolatalo.fi
X-WR-CALDESC:Tapahtumat Nyr&ouml;l&auml;talo
REFRESH-INTERVAL;VALUE=DURATION:PT1H
X-Robots-Tag:noindex
X-PUBLISHED-TTL:PT1H
BEGIN:VTIMEZONE
TZID:Europe/Helsinki
BEGIN:DAYLIGHT
TZOFFSETFROM:+0200
TZOFFSETTO:+0300
TZNAME:EEST
DTSTART:20250330T010000
END:DAYLIGHT
BEGIN:STANDARD
TZOFFSETFROM:+0300
TZOFFSETTO:+0200
TZNAME:EET
DTSTART:20251026T010000
END:STANDARD
BEGIN:DAYLIGHT
TZOFFSETFROM:+0200
TZOFFSETTO:+0300
TZNAME:EEST
DTSTART:20260329T010000
END:DAYLIGHT
BEGIN:STANDARD
TZOFFSETFROM:+0300
TZOFFSETTO:+0200
TZNAME:EET
DTSTART:20261025T010000
END:STANDARD
BEGIN:DAYLIGHT
TZOFFSETFROM:+0200
TZOFFSETTO:+0300
TZNAME:EEST
DTSTART:20270328T010000
END:DAYLIGHT
BEGIN:STANDARD
TZOFFSETFROM:+0300
TZOFFSETTO:+0200
TZNAME:EET
DTSTART:20271031T010000
END:STANDARD
END:VTIMEZONE
BEGIN:VEVENT
DTSTART;TZID=Europe/Helsinki:20260702T120000
DTEND;TZID=Europe/Helsinki:20260705T190000
DTSTAMP:20260419T201002
CREATED:20260315T140953Z
LAST-MODIFIED:20260315T141328Z
UID:3316-1782993600-1783278000@www.nyrolatalo.fi
SUMMARY:LIITERIKAFFILA AVOINNA 12-19
DESCRIPTION:
URL:https://www.nyrolatalo.fi/tapahtuma/liiterikaffila-avoinna/2026-07-02/
LOCATION:LiiteriKaffila
CATEGORIES:LIITERIKAFFILA AVOINNA,TALON KAFFILA AVOINNA
END:VEVENT
BEGIN:VEVENT
DTSTART;TZID=Europe/Helsinki:20260709T120000
DTEND;TZID=Europe/Helsinki:20260712T190000
DTSTAMP:20260419T201002
CREATED:20260315T140953Z
LAST-MODIFIED:20260315T141328Z
UID:3321-1783598400-1783882800@www.nyrolatalo.fi
SUMMARY:LIITERIKAFFILA AVOINNA 12-19
DESCRIPTION:
URL:https://www.nyrolatalo.fi/tapahtuma/liiterikaffila-avoinna/2026-07-09/
LOCATION:LiiteriKaffila
CATEGORIES:LIITERIKAFFILA AVOINNA,TALON KAFFILA AVOINNA
END:VEVENT
BEGIN:VEVENT
DTSTART;TZID=Europe/Helsinki:20260716T120000
DTEND;TZID=Europe/Helsinki:20260719T190000
DTSTAMP:20260419T201002
CREATED:20260315T140953Z
LAST-MODIFIED:20260315T141328Z
UID:3325-1784203200-1784487600@www.nyrolatalo.fi
SUMMARY:LIITERIKAFFILA AVOINNA 12-19
DESCRIPTION:
URL:https://www.nyrolatalo.fi/tapahtuma/liiterikaffila-avoinna/2026-07-16/
LOCATION:LiiteriKaffila
CATEGORIES:LIITERIKAFFILA AVOINNA,TALON KAFFILA AVOINNA
END:VEVENT
BEGIN:VEVENT
DTSTART;TZID=Europe/Helsinki:20260723T120000
DTEND;TZID=Europe/Helsinki:20260726T190000
DTSTAMP:20260419T201002
CREATED:20260315T140953Z
LAST-MODIFIED:20260315T141329Z
UID:3329-1784808000-1785092400@www.nyrolatalo.fi
SUMMARY:LIITERIKAFFILA AVOINNA 12-19
DESCRIPTION:
URL:https://www.nyrolatalo.fi/tapahtuma/liiterikaffila-avoinna/2026-07-23/
LOCATION:LiiteriKaffila
CATEGORIES:LIITERIKAFFILA AVOINNA,TALON KAFFILA AVOINNA
END:VEVENT
BEGIN:VEVENT
DTSTART;TZID=Europe/Helsinki:20260730T120000
DTEND;TZID=Europe/Helsinki:20260802T190000
DTSTAMP:20260419T201002
CREATED:20260315T140953Z
LAST-MODIFIED:20260315T141329Z
UID:3333-1785412800-1785697200@www.nyrolatalo.fi
SUMMARY:LIITERIKAFFILA AVOINNA 12-19
DESCRIPTION:
URL:https://www.nyrolatalo.fi/tapahtuma/liiterikaffila-avoinna/2026-07-30/
LOCATION:LiiteriKaffila
CATEGORIES:LIITERIKAFFILA AVOINNA,TALON KAFFILA AVOINNA
END:VEVENT
END:VCALENDAR