BEGIN:VCALENDAR
VERSION:2.0
PRODID:-//Nyr&ouml;l&auml;talo - ECPv6.15.20//NONSGML v1.0//EN
CALSCALE:GREGORIAN
METHOD:PUBLISH
X-ORIGINAL-URL:https://www.nyrolatalo.fi
X-WR-CALDESC:Tapahtumat Nyr&ouml;l&auml;talo
REFRESH-INTERVAL;VALUE=DURATION:PT1H
X-Robots-Tag:noindex
X-PUBLISHED-TTL:PT1H
BEGIN:VTIMEZONE
TZID:Europe/Helsinki
BEGIN:DAYLIGHT
TZOFFSETFROM:+0200
TZOFFSETTO:+0300
TZNAME:EEST
DTSTART:20240331T010000
END:DAYLIGHT
BEGIN:STANDARD
TZOFFSETFROM:+0300
TZOFFSETTO:+0200
TZNAME:EET
DTSTART:20241027T010000
END:STANDARD
BEGIN:DAYLIGHT
TZOFFSETFROM:+0200
TZOFFSETTO:+0300
TZNAME:EEST
DTSTART:20250330T010000
END:DAYLIGHT
BEGIN:STANDARD
TZOFFSETFROM:+0300
TZOFFSETTO:+0200
TZNAME:EET
DTSTART:20251026T010000
END:STANDARD
BEGIN:DAYLIGHT
TZOFFSETFROM:+0200
TZOFFSETTO:+0300
TZNAME:EEST
DTSTART:20260329T010000
END:DAYLIGHT
BEGIN:STANDARD
TZOFFSETFROM:+0300
TZOFFSETTO:+0200
TZNAME:EET
DTSTART:20261025T010000
END:STANDARD
END:VTIMEZONE
BEGIN:VEVENT
DTSTART;TZID=Europe/Helsinki:20250703T120000
DTEND;TZID=Europe/Helsinki:20250703T190000
DTSTAMP:20260424T035546
CREATED:20250610T070912Z
LAST-MODIFIED:20250610T071154Z
UID:2930-1751544000-1751569200@www.nyrolatalo.fi
SUMMARY:LIITERIKAFFILA AVOINNA 12-19
DESCRIPTION:
URL:https://www.nyrolatalo.fi/tapahtuma/liiterikaffila-avoinna-12-19-3/2025-07-03/
LOCATION:LiiteriKaffila
CATEGORIES:TALON KAFFILA AVOINNA
ORGANIZER;CN="Nyr%C3%B6l%C3%A4talo":MAILTO:minnamuori@nyrolatalo.fi
END:VEVENT
BEGIN:VEVENT
DTSTART;TZID=Europe/Helsinki:20250704T120000
DTEND;TZID=Europe/Helsinki:20250704T190000
DTSTAMP:20260424T035546
CREATED:20250610T070912Z
LAST-MODIFIED:20250610T071154Z
UID:2931-1751630400-1751655600@www.nyrolatalo.fi
SUMMARY:LIITERIKAFFILA AVOINNA 12-19
DESCRIPTION:
URL:https://www.nyrolatalo.fi/tapahtuma/liiterikaffila-avoinna-12-19-3/2025-07-04/
LOCATION:LiiteriKaffila
CATEGORIES:TALON KAFFILA AVOINNA
ORGANIZER;CN="Nyr%C3%B6l%C3%A4talo":MAILTO:minnamuori@nyrolatalo.fi
END:VEVENT
BEGIN:VEVENT
DTSTART;TZID=Europe/Helsinki:20250705T120000
DTEND;TZID=Europe/Helsinki:20250705T190000
DTSTAMP:20260424T035546
CREATED:20250610T070912Z
LAST-MODIFIED:20250610T071155Z
UID:2932-1751716800-1751742000@www.nyrolatalo.fi
SUMMARY:LIITERIKAFFILA AVOINNA 12-19
DESCRIPTION:
URL:https://www.nyrolatalo.fi/tapahtuma/liiterikaffila-avoinna-12-19-3/2025-07-05/
LOCATION:LiiteriKaffila
CATEGORIES:TALON KAFFILA AVOINNA
ORGANIZER;CN="Nyr%C3%B6l%C3%A4talo":MAILTO:minnamuori@nyrolatalo.fi
END:VEVENT
BEGIN:VEVENT
DTSTART;TZID=Europe/Helsinki:20250706T120000
DTEND;TZID=Europe/Helsinki:20250706T190000
DTSTAMP:20260424T035546
CREATED:20250610T070912Z
LAST-MODIFIED:20250610T071205Z
UID:2934-1751803200-1751828400@www.nyrolatalo.fi
SUMMARY:LIITERIKAFFILA AVOINNA 12-19
DESCRIPTION:
URL:https://www.nyrolatalo.fi/tapahtuma/liiterikaffila-avoinna-12-19-3/2025-07-06/
LOCATION:LiiteriKaffila
CATEGORIES:TALON KAFFILA AVOINNA
ORGANIZER;CN="Nyr%C3%B6l%C3%A4talo":MAILTO:minnamuori@nyrolatalo.fi
END:VEVENT
BEGIN:VEVENT
DTSTART;TZID=Europe/Helsinki:20250710T120000
DTEND;TZID=Europe/Helsinki:20250710T190000
DTSTAMP:20260424T035546
CREATED:20250610T070912Z
LAST-MODIFIED:20250610T071205Z
UID:2935-1752148800-1752174000@www.nyrolatalo.fi
SUMMARY:LIITERIKAFFILA AVOINNA 12-19
DESCRIPTION:
URL:https://www.nyrolatalo.fi/tapahtuma/liiterikaffila-avoinna-12-19-3/2025-07-10/
LOCATION:LiiteriKaffila
CATEGORIES:TALON KAFFILA AVOINNA
ORGANIZER;CN="Nyr%C3%B6l%C3%A4talo":MAILTO:minnamuori@nyrolatalo.fi
END:VEVENT
BEGIN:VEVENT
DTSTART;TZID=Europe/Helsinki:20250711T120000
DTEND;TZID=Europe/Helsinki:20250711T190000
DTSTAMP:20260424T035547
CREATED:20250610T070912Z
LAST-MODIFIED:20250610T071206Z
UID:2936-1752235200-1752260400@www.nyrolatalo.fi
SUMMARY:LIITERIKAFFILA AVOINNA 12-19
DESCRIPTION:
URL:https://www.nyrolatalo.fi/tapahtuma/liiterikaffila-avoinna-12-19-3/2025-07-11/
LOCATION:LiiteriKaffila
CATEGORIES:TALON KAFFILA AVOINNA
ORGANIZER;CN="Nyr%C3%B6l%C3%A4talo":MAILTO:minnamuori@nyrolatalo.fi
END:VEVENT
BEGIN:VEVENT
DTSTART;TZID=Europe/Helsinki:20250712T120000
DTEND;TZID=Europe/Helsinki:20250712T190000
DTSTAMP:20260424T035547
CREATED:20250610T070912Z
LAST-MODIFIED:20250610T071207Z
UID:2937-1752321600-1752346800@www.nyrolatalo.fi
SUMMARY:LIITERIKAFFILA AVOINNA 12-19
DESCRIPTION:
URL:https://www.nyrolatalo.fi/tapahtuma/liiterikaffila-avoinna-12-19-3/2025-07-12/
LOCATION:LiiteriKaffila
CATEGORIES:TALON KAFFILA AVOINNA
ORGANIZER;CN="Nyr%C3%B6l%C3%A4talo":MAILTO:minnamuori@nyrolatalo.fi
END:VEVENT
BEGIN:VEVENT
DTSTART;TZID=Europe/Helsinki:20250713T120000
DTEND;TZID=Europe/Helsinki:20250713T190000
DTSTAMP:20260424T035547
CREATED:20250610T070912Z
LAST-MODIFIED:20250610T071208Z
UID:2938-1752408000-1752433200@www.nyrolatalo.fi
SUMMARY:LIITERIKAFFILA AVOINNA 12-19
DESCRIPTION:
URL:https://www.nyrolatalo.fi/tapahtuma/liiterikaffila-avoinna-12-19-3/2025-07-13/
LOCATION:LiiteriKaffila
CATEGORIES:TALON KAFFILA AVOINNA
ORGANIZER;CN="Nyr%C3%B6l%C3%A4talo":MAILTO:minnamuori@nyrolatalo.fi
END:VEVENT
BEGIN:VEVENT
DTSTART;TZID=Europe/Helsinki:20250717T120000
DTEND;TZID=Europe/Helsinki:20250717T190000
DTSTAMP:20260424T035547
CREATED:20250610T070912Z
LAST-MODIFIED:20250610T071209Z
UID:2939-1752753600-1752778800@www.nyrolatalo.fi
SUMMARY:LIITERIKAFFILA AVOINNA 12-19
DESCRIPTION:
URL:https://www.nyrolatalo.fi/tapahtuma/liiterikaffila-avoinna-12-19-3/2025-07-17/
LOCATION:LiiteriKaffila
CATEGORIES:TALON KAFFILA AVOINNA
ORGANIZER;CN="Nyr%C3%B6l%C3%A4talo":MAILTO:minnamuori@nyrolatalo.fi
END:VEVENT
BEGIN:VEVENT
DTSTART;TZID=Europe/Helsinki:20250718T120000
DTEND;TZID=Europe/Helsinki:20250718T190000
DTSTAMP:20260424T035547
CREATED:20250610T070912Z
LAST-MODIFIED:20250610T071210Z
UID:2940-1752840000-1752865200@www.nyrolatalo.fi
SUMMARY:LIITERIKAFFILA AVOINNA 12-19
DESCRIPTION:
URL:https://www.nyrolatalo.fi/tapahtuma/liiterikaffila-avoinna-12-19-3/2025-07-18/
LOCATION:LiiteriKaffila
CATEGORIES:TALON KAFFILA AVOINNA
ORGANIZER;CN="Nyr%C3%B6l%C3%A4talo":MAILTO:minnamuori@nyrolatalo.fi
END:VEVENT
BEGIN:VEVENT
DTSTART;TZID=Europe/Helsinki:20250719T120000
DTEND;TZID=Europe/Helsinki:20250719T190000
DTSTAMP:20260424T035547
CREATED:20250610T070912Z
LAST-MODIFIED:20250610T071210Z
UID:2941-1752926400-1752951600@www.nyrolatalo.fi
SUMMARY:LIITERIKAFFILA AVOINNA 12-19
DESCRIPTION:
URL:https://www.nyrolatalo.fi/tapahtuma/liiterikaffila-avoinna-12-19-3/2025-07-19/
LOCATION:LiiteriKaffila
CATEGORIES:TALON KAFFILA AVOINNA
ORGANIZER;CN="Nyr%C3%B6l%C3%A4talo":MAILTO:minnamuori@nyrolatalo.fi
END:VEVENT
BEGIN:VEVENT
DTSTART;TZID=Europe/Helsinki:20250720T120000
DTEND;TZID=Europe/Helsinki:20250720T190000
DTSTAMP:20260424T035547
CREATED:20250610T070912Z
LAST-MODIFIED:20250610T071211Z
UID:2942-1753012800-1753038000@www.nyrolatalo.fi
SUMMARY:LIITERIKAFFILA AVOINNA 12-19
DESCRIPTION:
URL:https://www.nyrolatalo.fi/tapahtuma/liiterikaffila-avoinna-12-19-3/2025-07-20/
LOCATION:LiiteriKaffila
CATEGORIES:TALON KAFFILA AVOINNA
ORGANIZER;CN="Nyr%C3%B6l%C3%A4talo":MAILTO:minnamuori@nyrolatalo.fi
END:VEVENT
BEGIN:VEVENT
DTSTART;TZID=Europe/Helsinki:20250724T120000
DTEND;TZID=Europe/Helsinki:20250724T190000
DTSTAMP:20260424T035547
CREATED:20250610T070912Z
LAST-MODIFIED:20250610T071212Z
UID:2943-1753358400-1753383600@www.nyrolatalo.fi
SUMMARY:LIITERIKAFFILA AVOINNA 12-19
DESCRIPTION:
URL:https://www.nyrolatalo.fi/tapahtuma/liiterikaffila-avoinna-12-19-3/2025-07-24/
LOCATION:LiiteriKaffila
CATEGORIES:TALON KAFFILA AVOINNA
ORGANIZER;CN="Nyr%C3%B6l%C3%A4talo":MAILTO:minnamuori@nyrolatalo.fi
END:VEVENT
BEGIN:VEVENT
DTSTART;TZID=Europe/Helsinki:20250725T120000
DTEND;TZID=Europe/Helsinki:20250725T190000
DTSTAMP:20260424T035547
CREATED:20250610T070912Z
LAST-MODIFIED:20250610T071221Z
UID:2944-1753444800-1753470000@www.nyrolatalo.fi
SUMMARY:LIITERIKAFFILA AVOINNA 12-19
DESCRIPTION:
URL:https://www.nyrolatalo.fi/tapahtuma/liiterikaffila-avoinna-12-19-3/2025-07-25/
LOCATION:LiiteriKaffila
CATEGORIES:TALON KAFFILA AVOINNA
ORGANIZER;CN="Nyr%C3%B6l%C3%A4talo":MAILTO:minnamuori@nyrolatalo.fi
END:VEVENT
BEGIN:VEVENT
DTSTART;TZID=Europe/Helsinki:20250726T120000
DTEND;TZID=Europe/Helsinki:20250726T190000
DTSTAMP:20260424T035547
CREATED:20250610T070912Z
LAST-MODIFIED:20250610T071221Z
UID:2945-1753531200-1753556400@www.nyrolatalo.fi
SUMMARY:LIITERIKAFFILA AVOINNA 12-19
DESCRIPTION:
URL:https://www.nyrolatalo.fi/tapahtuma/liiterikaffila-avoinna-12-19-3/2025-07-26/
LOCATION:LiiteriKaffila
CATEGORIES:TALON KAFFILA AVOINNA
ORGANIZER;CN="Nyr%C3%B6l%C3%A4talo":MAILTO:minnamuori@nyrolatalo.fi
END:VEVENT
BEGIN:VEVENT
DTSTART;TZID=Europe/Helsinki:20250727T120000
DTEND;TZID=Europe/Helsinki:20250727T190000
DTSTAMP:20260424T035547
CREATED:20250610T070912Z
LAST-MODIFIED:20250610T071222Z
UID:2946-1753617600-1753642800@www.nyrolatalo.fi
SUMMARY:LIITERIKAFFILA AVOINNA 12-19
DESCRIPTION:
URL:https://www.nyrolatalo.fi/tapahtuma/liiterikaffila-avoinna-12-19-3/2025-07-27/
LOCATION:LiiteriKaffila
CATEGORIES:TALON KAFFILA AVOINNA
ORGANIZER;CN="Nyr%C3%B6l%C3%A4talo":MAILTO:minnamuori@nyrolatalo.fi
END:VEVENT
BEGIN:VEVENT
DTSTART;TZID=Europe/Helsinki:20250731T120000
DTEND;TZID=Europe/Helsinki:20250731T190000
DTSTAMP:20260424T035547
CREATED:20250610T070912Z
LAST-MODIFIED:20250610T071223Z
UID:2947-1753963200-1753988400@www.nyrolatalo.fi
SUMMARY:LIITERIKAFFILA AVOINNA 12-19
DESCRIPTION:
URL:https://www.nyrolatalo.fi/tapahtuma/liiterikaffila-avoinna-12-19-3/2025-07-31/
LOCATION:LiiteriKaffila
CATEGORIES:TALON KAFFILA AVOINNA
ORGANIZER;CN="Nyr%C3%B6l%C3%A4talo":MAILTO:minnamuori@nyrolatalo.fi
END:VEVENT
END:VCALENDAR