BEGIN:VCALENDAR
VERSION:2.0
PRODID:-//Nyr&ouml;l&auml;talo - ECPv6.15.20//NONSGML v1.0//EN
CALSCALE:GREGORIAN
METHOD:PUBLISH
X-WR-CALNAME:Nyr&ouml;l&auml;talo
X-ORIGINAL-URL:https://www.nyrolatalo.fi
X-WR-CALDESC:Tapahtumat Nyr&ouml;l&auml;talo
REFRESH-INTERVAL;VALUE=DURATION:PT1H
X-Robots-Tag:noindex
X-PUBLISHED-TTL:PT1H
BEGIN:VTIMEZONE
TZID:Europe/Helsinki
BEGIN:DAYLIGHT
TZOFFSETFROM:+0200
TZOFFSETTO:+0300
TZNAME:EEST
DTSTART:20230326T010000
END:DAYLIGHT
BEGIN:STANDARD
TZOFFSETFROM:+0300
TZOFFSETTO:+0200
TZNAME:EET
DTSTART:20231029T010000
END:STANDARD
BEGIN:DAYLIGHT
TZOFFSETFROM:+0200
TZOFFSETTO:+0300
TZNAME:EEST
DTSTART:20240331T010000
END:DAYLIGHT
BEGIN:STANDARD
TZOFFSETFROM:+0300
TZOFFSETTO:+0200
TZNAME:EET
DTSTART:20241027T010000
END:STANDARD
BEGIN:DAYLIGHT
TZOFFSETFROM:+0200
TZOFFSETTO:+0300
TZNAME:EEST
DTSTART:20250330T010000
END:DAYLIGHT
BEGIN:STANDARD
TZOFFSETFROM:+0300
TZOFFSETTO:+0200
TZNAME:EET
DTSTART:20251026T010000
END:STANDARD
END:VTIMEZONE
BEGIN:VEVENT
DTSTART;TZID=Europe/Helsinki:20240801T120000
DTEND;TZID=Europe/Helsinki:20240801T190000
DTSTAMP:20260424T183703
CREATED:20240712T075535Z
LAST-MODIFIED:20240712T075535Z
UID:2519-1722513600-1722538800@www.nyrolatalo.fi
SUMMARY:LIITERIKAFFILA AVOINNA 12-19
DESCRIPTION:
URL:https://www.nyrolatalo.fi/tapahtuma/liiterikaffila-avoinna-12-19-2/2024-08-01/
LOCATION:LiiteriKaffila
CATEGORIES:LIITERIKAFFILA AVOINNA,TALON KAFFILA AVOINNA
ORGANIZER;CN="Nyr%C3%B6l%C3%A4talo":MAILTO:minnamuori@nyrolatalo.fi
END:VEVENT
BEGIN:VEVENT
DTSTART;TZID=Europe/Helsinki:20240802T120000
DTEND;TZID=Europe/Helsinki:20240802T190000
DTSTAMP:20260424T183703
CREATED:20240618T164832Z
LAST-MODIFIED:20240619T115656Z
UID:2442-1722600000-1722625200@www.nyrolatalo.fi
SUMMARY:LIITERIKAFFILA AVOINNA 12-19
DESCRIPTION:
URL:https://www.nyrolatalo.fi/tapahtuma/liiterikaffila-avoinna-12-19-2024-09-01-2024-09-01/2024-08-02/
CATEGORIES:LIITERIKAFFILA AVOINNA,TALON KAFFILA AVOINNA
END:VEVENT
BEGIN:VEVENT
DTSTART;TZID=Europe/Helsinki:20240803T120000
DTEND;TZID=Europe/Helsinki:20240803T190000
DTSTAMP:20260424T183703
CREATED:20240618T164832Z
LAST-MODIFIED:20240619T115656Z
UID:2443-1722686400-1722711600@www.nyrolatalo.fi
SUMMARY:LIITERIKAFFILA AVOINNA 12-19
DESCRIPTION:
URL:https://www.nyrolatalo.fi/tapahtuma/liiterikaffila-avoinna-12-19-2024-09-01-2024-09-01/2024-08-03/
CATEGORIES:LIITERIKAFFILA AVOINNA,TALON KAFFILA AVOINNA
END:VEVENT
BEGIN:VEVENT
DTSTART;TZID=Europe/Helsinki:20240804T120000
DTEND;TZID=Europe/Helsinki:20240804T190000
DTSTAMP:20260424T183703
CREATED:20240618T164832Z
LAST-MODIFIED:20240619T115657Z
UID:2444-1722772800-1722798000@www.nyrolatalo.fi
SUMMARY:LIITERIKAFFILA AVOINNA 12-19
DESCRIPTION:
URL:https://www.nyrolatalo.fi/tapahtuma/liiterikaffila-avoinna-12-19-2024-09-01-2024-09-01/2024-08-04/
CATEGORIES:LIITERIKAFFILA AVOINNA,TALON KAFFILA AVOINNA
END:VEVENT
BEGIN:VEVENT
DTSTART;TZID=Europe/Helsinki:20240808T120000
DTEND;TZID=Europe/Helsinki:20240808T190000
DTSTAMP:20260424T183703
CREATED:20240618T164832Z
LAST-MODIFIED:20240619T115657Z
UID:2445-1723118400-1723143600@www.nyrolatalo.fi
SUMMARY:LIITERIKAFFILA AVOINNA 12-19
DESCRIPTION:
URL:https://www.nyrolatalo.fi/tapahtuma/liiterikaffila-avoinna-12-19-2024-09-01-2024-09-01/2024-08-08/
CATEGORIES:LIITERIKAFFILA AVOINNA,TALON KAFFILA AVOINNA
END:VEVENT
BEGIN:VEVENT
DTSTART;TZID=Europe/Helsinki:20240809T120000
DTEND;TZID=Europe/Helsinki:20240809T190000
DTSTAMP:20260424T183703
CREATED:20240618T164832Z
LAST-MODIFIED:20240619T115658Z
UID:2446-1723204800-1723230000@www.nyrolatalo.fi
SUMMARY:LIITERIKAFFILA AVOINNA 12-19
DESCRIPTION:
URL:https://www.nyrolatalo.fi/tapahtuma/liiterikaffila-avoinna-12-19-2024-09-01-2024-09-01/2024-08-09/
CATEGORIES:LIITERIKAFFILA AVOINNA,TALON KAFFILA AVOINNA
END:VEVENT
BEGIN:VEVENT
DTSTART;TZID=Europe/Helsinki:20240810T120000
DTEND;TZID=Europe/Helsinki:20240810T190000
DTSTAMP:20260424T183703
CREATED:20240618T164832Z
LAST-MODIFIED:20240619T115658Z
UID:2447-1723291200-1723316400@www.nyrolatalo.fi
SUMMARY:LIITERIKAFFILA AVOINNA 12-19
DESCRIPTION:
URL:https://www.nyrolatalo.fi/tapahtuma/liiterikaffila-avoinna-12-19-2024-09-01-2024-09-01/2024-08-10/
CATEGORIES:LIITERIKAFFILA AVOINNA,TALON KAFFILA AVOINNA
END:VEVENT
BEGIN:VEVENT
DTSTART;TZID=Europe/Helsinki:20240811T120000
DTEND;TZID=Europe/Helsinki:20240811T190000
DTSTAMP:20260424T183703
CREATED:20240618T164832Z
LAST-MODIFIED:20240619T115659Z
UID:2448-1723377600-1723402800@www.nyrolatalo.fi
SUMMARY:LIITERIKAFFILA AVOINNA 12-19
DESCRIPTION:
URL:https://www.nyrolatalo.fi/tapahtuma/liiterikaffila-avoinna-12-19-2024-09-01-2024-09-01/2024-08-11/
CATEGORIES:LIITERIKAFFILA AVOINNA,TALON KAFFILA AVOINNA
END:VEVENT
BEGIN:VEVENT
DTSTART;TZID=Europe/Helsinki:20240815T120000
DTEND;TZID=Europe/Helsinki:20240815T190000
DTSTAMP:20260424T183703
CREATED:20240618T164832Z
LAST-MODIFIED:20240619T115659Z
UID:2449-1723723200-1723748400@www.nyrolatalo.fi
SUMMARY:LIITERIKAFFILA AVOINNA 12-19
DESCRIPTION:
URL:https://www.nyrolatalo.fi/tapahtuma/liiterikaffila-avoinna-12-19-2024-09-01-2024-09-01/2024-08-15/
CATEGORIES:LIITERIKAFFILA AVOINNA,TALON KAFFILA AVOINNA
END:VEVENT
BEGIN:VEVENT
DTSTART;TZID=Europe/Helsinki:20240816T120000
DTEND;TZID=Europe/Helsinki:20240816T190000
DTSTAMP:20260424T183703
CREATED:20240618T164832Z
LAST-MODIFIED:20240619T115659Z
UID:2450-1723809600-1723834800@www.nyrolatalo.fi
SUMMARY:LIITERIKAFFILA AVOINNA 12-19
DESCRIPTION:
URL:https://www.nyrolatalo.fi/tapahtuma/liiterikaffila-avoinna-12-19-2024-09-01-2024-09-01/2024-08-16/
CATEGORIES:LIITERIKAFFILA AVOINNA,TALON KAFFILA AVOINNA
END:VEVENT
BEGIN:VEVENT
DTSTART;TZID=Europe/Helsinki:20240817T120000
DTEND;TZID=Europe/Helsinki:20240817T190000
DTSTAMP:20260424T183703
CREATED:20240618T164832Z
LAST-MODIFIED:20240619T115700Z
UID:2451-1723896000-1723921200@www.nyrolatalo.fi
SUMMARY:LIITERIKAFFILA AVOINNA 12-19
DESCRIPTION:
URL:https://www.nyrolatalo.fi/tapahtuma/liiterikaffila-avoinna-12-19-2024-09-01-2024-09-01/2024-08-17/
CATEGORIES:LIITERIKAFFILA AVOINNA,TALON KAFFILA AVOINNA
END:VEVENT
BEGIN:VEVENT
DTSTART;TZID=Europe/Helsinki:20240818T120000
DTEND;TZID=Europe/Helsinki:20240818T190000
DTSTAMP:20260424T183703
CREATED:20240618T164832Z
LAST-MODIFIED:20240619T115701Z
UID:2452-1723982400-1724007600@www.nyrolatalo.fi
SUMMARY:LIITERIKAFFILA AVOINNA 12-19
DESCRIPTION:
URL:https://www.nyrolatalo.fi/tapahtuma/liiterikaffila-avoinna-12-19-2024-09-01-2024-09-01/2024-08-18/
CATEGORIES:LIITERIKAFFILA AVOINNA,TALON KAFFILA AVOINNA
END:VEVENT
BEGIN:VEVENT
DTSTART;TZID=Europe/Helsinki:20240822T120000
DTEND;TZID=Europe/Helsinki:20240822T190000
DTSTAMP:20260424T183703
CREATED:20240618T164832Z
LAST-MODIFIED:20240619T115701Z
UID:2453-1724328000-1724353200@www.nyrolatalo.fi
SUMMARY:LIITERIKAFFILA AVOINNA 12-19
DESCRIPTION:
URL:https://www.nyrolatalo.fi/tapahtuma/liiterikaffila-avoinna-12-19-2024-09-01-2024-09-01/2024-08-22/
CATEGORIES:LIITERIKAFFILA AVOINNA,TALON KAFFILA AVOINNA
END:VEVENT
BEGIN:VEVENT
DTSTART;TZID=Europe/Helsinki:20240823T120000
DTEND;TZID=Europe/Helsinki:20240823T190000
DTSTAMP:20260424T183703
CREATED:20240618T164832Z
LAST-MODIFIED:20240619T115701Z
UID:2454-1724414400-1724439600@www.nyrolatalo.fi
SUMMARY:LIITERIKAFFILA AVOINNA 12-19
DESCRIPTION:
URL:https://www.nyrolatalo.fi/tapahtuma/liiterikaffila-avoinna-12-19-2024-09-01-2024-09-01/2024-08-23/
CATEGORIES:LIITERIKAFFILA AVOINNA,TALON KAFFILA AVOINNA
END:VEVENT
BEGIN:VEVENT
DTSTART;TZID=Europe/Helsinki:20240824T120000
DTEND;TZID=Europe/Helsinki:20240824T190000
DTSTAMP:20260424T183703
CREATED:20240618T164832Z
LAST-MODIFIED:20240619T115702Z
UID:2455-1724500800-1724526000@www.nyrolatalo.fi
SUMMARY:LIITERIKAFFILA AVOINNA 12-19
DESCRIPTION:
URL:https://www.nyrolatalo.fi/tapahtuma/liiterikaffila-avoinna-12-19-2024-09-01-2024-09-01/2024-08-24/
CATEGORIES:LIITERIKAFFILA AVOINNA,TALON KAFFILA AVOINNA
END:VEVENT
BEGIN:VEVENT
DTSTART;TZID=Europe/Helsinki:20240825T120000
DTEND;TZID=Europe/Helsinki:20240825T190000
DTSTAMP:20260424T183703
CREATED:20240618T164832Z
LAST-MODIFIED:20240619T115702Z
UID:2456-1724587200-1724612400@www.nyrolatalo.fi
SUMMARY:LIITERIKAFFILA AVOINNA 12-19
DESCRIPTION:
URL:https://www.nyrolatalo.fi/tapahtuma/liiterikaffila-avoinna-12-19-2024-09-01-2024-09-01/2024-08-25/
CATEGORIES:LIITERIKAFFILA AVOINNA,TALON KAFFILA AVOINNA
END:VEVENT
BEGIN:VEVENT
DTSTART;TZID=Europe/Helsinki:20240829T120000
DTEND;TZID=Europe/Helsinki:20240829T190000
DTSTAMP:20260424T183703
CREATED:20240618T164832Z
LAST-MODIFIED:20240619T115702Z
UID:2457-1724932800-1724958000@www.nyrolatalo.fi
SUMMARY:LIITERIKAFFILA AVOINNA 12-19
DESCRIPTION:
URL:https://www.nyrolatalo.fi/tapahtuma/liiterikaffila-avoinna-12-19-2024-09-01-2024-09-01/2024-08-29/
CATEGORIES:LIITERIKAFFILA AVOINNA,TALON KAFFILA AVOINNA
END:VEVENT
BEGIN:VEVENT
DTSTART;TZID=Europe/Helsinki:20240830T120000
DTEND;TZID=Europe/Helsinki:20240830T190000
DTSTAMP:20260424T183703
CREATED:20240618T164832Z
LAST-MODIFIED:20240619T115703Z
UID:2458-1725019200-1725044400@www.nyrolatalo.fi
SUMMARY:LIITERIKAFFILA AVOINNA 12-19
DESCRIPTION:
URL:https://www.nyrolatalo.fi/tapahtuma/liiterikaffila-avoinna-12-19-2024-09-01-2024-09-01/2024-08-30/
CATEGORIES:LIITERIKAFFILA AVOINNA,TALON KAFFILA AVOINNA
END:VEVENT
BEGIN:VEVENT
DTSTART;TZID=Europe/Helsinki:20240831T120000
DTEND;TZID=Europe/Helsinki:20240831T190000
DTSTAMP:20260424T183703
CREATED:20240618T164832Z
LAST-MODIFIED:20240619T115030Z
UID:2459-1725105600-1725130800@www.nyrolatalo.fi
SUMMARY:LIITERIKAFFILA AVOINNA 12-19
DESCRIPTION:
URL:https://www.nyrolatalo.fi/tapahtuma/liiterikaffila-avoinna-12-19-2024-08-31/
CATEGORIES:LIITERIKAFFILA AVOINNA,TALON KAFFILA AVOINNA
END:VEVENT
END:VCALENDAR