BEGIN:VCALENDAR
VERSION:2.0
PRODID:-//Nyr&ouml;l&auml;talo - ECPv6.15.20//NONSGML v1.0//EN
CALSCALE:GREGORIAN
METHOD:PUBLISH
X-WR-CALNAME:Nyr&ouml;l&auml;talo
X-ORIGINAL-URL:https://www.nyrolatalo.fi
X-WR-CALDESC:Tapahtumat Nyr&ouml;l&auml;talo
REFRESH-INTERVAL;VALUE=DURATION:PT1H
X-Robots-Tag:noindex
X-PUBLISHED-TTL:PT1H
BEGIN:VTIMEZONE
TZID:Europe/Helsinki
BEGIN:DAYLIGHT
TZOFFSETFROM:+0200
TZOFFSETTO:+0300
TZNAME:EEST
DTSTART:20230326T010000
END:DAYLIGHT
BEGIN:STANDARD
TZOFFSETFROM:+0300
TZOFFSETTO:+0200
TZNAME:EET
DTSTART:20231029T010000
END:STANDARD
BEGIN:DAYLIGHT
TZOFFSETFROM:+0200
TZOFFSETTO:+0300
TZNAME:EEST
DTSTART:20240331T010000
END:DAYLIGHT
BEGIN:STANDARD
TZOFFSETFROM:+0300
TZOFFSETTO:+0200
TZNAME:EET
DTSTART:20241027T010000
END:STANDARD
BEGIN:DAYLIGHT
TZOFFSETFROM:+0200
TZOFFSETTO:+0300
TZNAME:EEST
DTSTART:20250330T010000
END:DAYLIGHT
BEGIN:STANDARD
TZOFFSETFROM:+0300
TZOFFSETTO:+0200
TZNAME:EET
DTSTART:20251026T010000
END:STANDARD
END:VTIMEZONE
BEGIN:VEVENT
DTSTART;TZID=Europe/Helsinki:20240704T120000
DTEND;TZID=Europe/Helsinki:20240704T190000
DTSTAMP:20260424T195841
CREATED:20240618T164832Z
LAST-MODIFIED:20240619T115201Z
UID:2424-1720094400-1720119600@www.nyrolatalo.fi
SUMMARY:LIITERIKAFFILA AVOINNA 12-19
DESCRIPTION:
URL:https://www.nyrolatalo.fi/tapahtuma/liiterikaffila-avoinna-12-19/2024-07-04/
CATEGORIES:LIITERIKAFFILA AVOINNA,TALON KAFFILA AVOINNA
END:VEVENT
BEGIN:VEVENT
DTSTART;TZID=Europe/Helsinki:20240705T120000
DTEND;TZID=Europe/Helsinki:20240705T190000
DTSTAMP:20260424T195841
CREATED:20240618T164832Z
LAST-MODIFIED:20240619T115202Z
UID:2425-1720180800-1720206000@www.nyrolatalo.fi
SUMMARY:LIITERIKAFFILA AVOINNA 12-19
DESCRIPTION:
URL:https://www.nyrolatalo.fi/tapahtuma/liiterikaffila-avoinna-12-19/2024-07-05/
CATEGORIES:LIITERIKAFFILA AVOINNA,TALON KAFFILA AVOINNA
END:VEVENT
BEGIN:VEVENT
DTSTART;TZID=Europe/Helsinki:20240706T120000
DTEND;TZID=Europe/Helsinki:20240706T190000
DTSTAMP:20260424T195841
CREATED:20240618T164832Z
LAST-MODIFIED:20240619T115202Z
UID:2426-1720267200-1720292400@www.nyrolatalo.fi
SUMMARY:LIITERIKAFFILA AVOINNA 12-19
DESCRIPTION:
URL:https://www.nyrolatalo.fi/tapahtuma/liiterikaffila-avoinna-12-19/2024-07-06/
CATEGORIES:LIITERIKAFFILA AVOINNA,TALON KAFFILA AVOINNA
END:VEVENT
BEGIN:VEVENT
DTSTART;TZID=Europe/Helsinki:20240707T120000
DTEND;TZID=Europe/Helsinki:20240707T190000
DTSTAMP:20260424T195841
CREATED:20240618T164832Z
LAST-MODIFIED:20240619T115203Z
UID:2427-1720353600-1720378800@www.nyrolatalo.fi
SUMMARY:LIITERIKAFFILA AVOINNA 12-19
DESCRIPTION:
URL:https://www.nyrolatalo.fi/tapahtuma/liiterikaffila-avoinna-12-19/2024-07-07/
CATEGORIES:LIITERIKAFFILA AVOINNA,TALON KAFFILA AVOINNA
END:VEVENT
BEGIN:VEVENT
DTSTART;TZID=Europe/Helsinki:20240711T120000
DTEND;TZID=Europe/Helsinki:20240711T190000
DTSTAMP:20260424T195841
CREATED:20240618T164832Z
LAST-MODIFIED:20240619T115203Z
UID:2428-1720699200-1720724400@www.nyrolatalo.fi
SUMMARY:LIITERIKAFFILA AVOINNA 12-19
DESCRIPTION:
URL:https://www.nyrolatalo.fi/tapahtuma/liiterikaffila-avoinna-12-19/2024-07-11/
CATEGORIES:LIITERIKAFFILA AVOINNA,TALON KAFFILA AVOINNA
END:VEVENT
BEGIN:VEVENT
DTSTART;TZID=Europe/Helsinki:20240712T120000
DTEND;TZID=Europe/Helsinki:20240712T190000
DTSTAMP:20260424T195841
CREATED:20240618T164832Z
LAST-MODIFIED:20240619T115203Z
UID:2429-1720785600-1720810800@www.nyrolatalo.fi
SUMMARY:LIITERIKAFFILA AVOINNA 12-19
DESCRIPTION:
URL:https://www.nyrolatalo.fi/tapahtuma/liiterikaffila-avoinna-12-19/2024-07-12/
CATEGORIES:LIITERIKAFFILA AVOINNA,TALON KAFFILA AVOINNA
END:VEVENT
BEGIN:VEVENT
DTSTART;TZID=Europe/Helsinki:20240713T120000
DTEND;TZID=Europe/Helsinki:20240713T190000
DTSTAMP:20260424T195841
CREATED:20240618T164832Z
LAST-MODIFIED:20240619T115204Z
UID:2430-1720872000-1720897200@www.nyrolatalo.fi
SUMMARY:LIITERIKAFFILA AVOINNA 12-19
DESCRIPTION:
URL:https://www.nyrolatalo.fi/tapahtuma/liiterikaffila-avoinna-12-19/2024-07-13/
CATEGORIES:LIITERIKAFFILA AVOINNA,TALON KAFFILA AVOINNA
END:VEVENT
BEGIN:VEVENT
DTSTART;TZID=Europe/Helsinki:20240714T120000
DTEND;TZID=Europe/Helsinki:20240714T190000
DTSTAMP:20260424T195841
CREATED:20240712T075535Z
LAST-MODIFIED:20240712T075535Z
UID:2510-1720958400-1720983600@www.nyrolatalo.fi
SUMMARY:LIITERIKAFFILA AVOINNA 12-19
DESCRIPTION:
URL:https://www.nyrolatalo.fi/tapahtuma/liiterikaffila-avoinna-12-19-2/2024-07-14/
LOCATION:LiiteriKaffila
CATEGORIES:LIITERIKAFFILA AVOINNA,TALON KAFFILA AVOINNA
ORGANIZER;CN="Nyr%C3%B6l%C3%A4talo":MAILTO:minnamuori@nyrolatalo.fi
END:VEVENT
BEGIN:VEVENT
DTSTART;TZID=Europe/Helsinki:20240718T120000
DTEND;TZID=Europe/Helsinki:20240718T190000
DTSTAMP:20260424T195841
CREATED:20240712T075535Z
LAST-MODIFIED:20240712T075535Z
UID:2511-1721304000-1721329200@www.nyrolatalo.fi
SUMMARY:LIITERIKAFFILA AVOINNA 12-19
DESCRIPTION:
URL:https://www.nyrolatalo.fi/tapahtuma/liiterikaffila-avoinna-12-19-2/2024-07-18/
LOCATION:LiiteriKaffila
CATEGORIES:LIITERIKAFFILA AVOINNA,TALON KAFFILA AVOINNA
ORGANIZER;CN="Nyr%C3%B6l%C3%A4talo":MAILTO:minnamuori@nyrolatalo.fi
END:VEVENT
BEGIN:VEVENT
DTSTART;TZID=Europe/Helsinki:20240719T120000
DTEND;TZID=Europe/Helsinki:20240719T190000
DTSTAMP:20260424T195841
CREATED:20240712T075535Z
LAST-MODIFIED:20240712T075535Z
UID:2512-1721390400-1721415600@www.nyrolatalo.fi
SUMMARY:LIITERIKAFFILA AVOINNA 12-19
DESCRIPTION:
URL:https://www.nyrolatalo.fi/tapahtuma/liiterikaffila-avoinna-12-19-2/2024-07-19/
LOCATION:LiiteriKaffila
CATEGORIES:LIITERIKAFFILA AVOINNA,TALON KAFFILA AVOINNA
ORGANIZER;CN="Nyr%C3%B6l%C3%A4talo":MAILTO:minnamuori@nyrolatalo.fi
END:VEVENT
BEGIN:VEVENT
DTSTART;TZID=Europe/Helsinki:20240720T120000
DTEND;TZID=Europe/Helsinki:20240720T190000
DTSTAMP:20260424T195841
CREATED:20240712T075535Z
LAST-MODIFIED:20240712T075535Z
UID:2513-1721476800-1721502000@www.nyrolatalo.fi
SUMMARY:LIITERIKAFFILA AVOINNA 12-19
DESCRIPTION:
URL:https://www.nyrolatalo.fi/tapahtuma/liiterikaffila-avoinna-12-19-2/2024-07-20/
LOCATION:LiiteriKaffila
CATEGORIES:LIITERIKAFFILA AVOINNA,TALON KAFFILA AVOINNA
ORGANIZER;CN="Nyr%C3%B6l%C3%A4talo":MAILTO:minnamuori@nyrolatalo.fi
END:VEVENT
BEGIN:VEVENT
DTSTART;TZID=Europe/Helsinki:20240721T120000
DTEND;TZID=Europe/Helsinki:20240721T190000
DTSTAMP:20260424T195841
CREATED:20240712T075535Z
LAST-MODIFIED:20240712T075535Z
UID:2514-1721563200-1721588400@www.nyrolatalo.fi
SUMMARY:LIITERIKAFFILA AVOINNA 12-19
DESCRIPTION:
URL:https://www.nyrolatalo.fi/tapahtuma/liiterikaffila-avoinna-12-19-2/2024-07-21/
LOCATION:LiiteriKaffila
CATEGORIES:LIITERIKAFFILA AVOINNA,TALON KAFFILA AVOINNA
ORGANIZER;CN="Nyr%C3%B6l%C3%A4talo":MAILTO:minnamuori@nyrolatalo.fi
END:VEVENT
BEGIN:VEVENT
DTSTART;TZID=Europe/Helsinki:20240725T120000
DTEND;TZID=Europe/Helsinki:20240725T190000
DTSTAMP:20260424T195841
CREATED:20240712T075535Z
LAST-MODIFIED:20240712T075535Z
UID:2515-1721908800-1721934000@www.nyrolatalo.fi
SUMMARY:LIITERIKAFFILA AVOINNA 12-19
DESCRIPTION:
URL:https://www.nyrolatalo.fi/tapahtuma/liiterikaffila-avoinna-12-19-2/2024-07-25/
LOCATION:LiiteriKaffila
CATEGORIES:LIITERIKAFFILA AVOINNA,TALON KAFFILA AVOINNA
ORGANIZER;CN="Nyr%C3%B6l%C3%A4talo":MAILTO:minnamuori@nyrolatalo.fi
END:VEVENT
BEGIN:VEVENT
DTSTART;TZID=Europe/Helsinki:20240726T120000
DTEND;TZID=Europe/Helsinki:20240726T190000
DTSTAMP:20260424T195841
CREATED:20240712T075535Z
LAST-MODIFIED:20240712T075535Z
UID:2516-1721995200-1722020400@www.nyrolatalo.fi
SUMMARY:LIITERIKAFFILA AVOINNA 12-19
DESCRIPTION:
URL:https://www.nyrolatalo.fi/tapahtuma/liiterikaffila-avoinna-12-19-2/2024-07-26/
LOCATION:LiiteriKaffila
CATEGORIES:LIITERIKAFFILA AVOINNA,TALON KAFFILA AVOINNA
ORGANIZER;CN="Nyr%C3%B6l%C3%A4talo":MAILTO:minnamuori@nyrolatalo.fi
END:VEVENT
BEGIN:VEVENT
DTSTART;TZID=Europe/Helsinki:20240727T120000
DTEND;TZID=Europe/Helsinki:20240727T190000
DTSTAMP:20260424T195841
CREATED:20240712T075535Z
LAST-MODIFIED:20240712T075535Z
UID:2517-1722081600-1722106800@www.nyrolatalo.fi
SUMMARY:LIITERIKAFFILA AVOINNA 12-19
DESCRIPTION:
URL:https://www.nyrolatalo.fi/tapahtuma/liiterikaffila-avoinna-12-19-2/2024-07-27/
LOCATION:LiiteriKaffila
CATEGORIES:LIITERIKAFFILA AVOINNA,TALON KAFFILA AVOINNA
ORGANIZER;CN="Nyr%C3%B6l%C3%A4talo":MAILTO:minnamuori@nyrolatalo.fi
END:VEVENT
BEGIN:VEVENT
DTSTART;TZID=Europe/Helsinki:20240728T120000
DTEND;TZID=Europe/Helsinki:20240728T190000
DTSTAMP:20260424T195841
CREATED:20240712T075535Z
LAST-MODIFIED:20240712T075535Z
UID:2518-1722168000-1722193200@www.nyrolatalo.fi
SUMMARY:LIITERIKAFFILA AVOINNA 12-19
DESCRIPTION:
URL:https://www.nyrolatalo.fi/tapahtuma/liiterikaffila-avoinna-12-19-2/2024-07-28/
LOCATION:LiiteriKaffila
CATEGORIES:LIITERIKAFFILA AVOINNA,TALON KAFFILA AVOINNA
ORGANIZER;CN="Nyr%C3%B6l%C3%A4talo":MAILTO:minnamuori@nyrolatalo.fi
END:VEVENT
END:VCALENDAR