BEGIN:VCALENDAR
VERSION:2.0
PRODID:-//Nyr&ouml;l&auml;talo - ECPv6.15.20//NONSGML v1.0//EN
CALSCALE:GREGORIAN
METHOD:PUBLISH
X-WR-CALNAME:Nyr&ouml;l&auml;talo
X-ORIGINAL-URL:https://www.nyrolatalo.fi
X-WR-CALDESC:Tapahtumat Nyr&ouml;l&auml;talo
REFRESH-INTERVAL;VALUE=DURATION:PT1H
X-Robots-Tag:noindex
X-PUBLISHED-TTL:PT1H
BEGIN:VTIMEZONE
TZID:Europe/Helsinki
BEGIN:DAYLIGHT
TZOFFSETFROM:+0200
TZOFFSETTO:+0300
TZNAME:EEST
DTSTART:20220327T010000
END:DAYLIGHT
BEGIN:STANDARD
TZOFFSETFROM:+0300
TZOFFSETTO:+0200
TZNAME:EET
DTSTART:20221030T010000
END:STANDARD
BEGIN:DAYLIGHT
TZOFFSETFROM:+0200
TZOFFSETTO:+0300
TZNAME:EEST
DTSTART:20230326T010000
END:DAYLIGHT
BEGIN:STANDARD
TZOFFSETFROM:+0300
TZOFFSETTO:+0200
TZNAME:EET
DTSTART:20231029T010000
END:STANDARD
BEGIN:DAYLIGHT
TZOFFSETFROM:+0200
TZOFFSETTO:+0300
TZNAME:EEST
DTSTART:20240331T010000
END:DAYLIGHT
BEGIN:STANDARD
TZOFFSETFROM:+0300
TZOFFSETTO:+0200
TZNAME:EET
DTSTART:20241027T010000
END:STANDARD
END:VTIMEZONE
BEGIN:VEVENT
DTSTART;TZID=Europe/Helsinki:20230422T100000
DTEND;TZID=Europe/Helsinki:20230422T140000
DTSTAMP:20260425T190655
CREATED:20230404T113328Z
LAST-MODIFIED:20230404T113328Z
UID:1886-1682157600-1682172000@www.nyrolatalo.fi
SUMMARY:KIRPPUTORI 22.4.2023 KLO 10-14
DESCRIPTION:PÖYTÄPAIKKA 10 € \nsis. kaffi/tee + makea tai suolainen purtava \nVARAA PAIKKA  VIESTILLÄ 0407676857 \n  \n 
URL:https://www.nyrolatalo.fi/tapahtuma/kirpputori-22-4-2023-klo-10-14/
LOCATION:Nyrölätalo\, Jatkolantia 11\, Jyväskylä\, 41140
CATEGORIES:TALON KAFFILA AVOINNA,TAPAHTUMA
END:VEVENT
END:VCALENDAR