BEGIN:VCALENDAR
VERSION:2.0
PRODID:-//Nyr&ouml;l&auml;talo - ECPv6.15.20//NONSGML v1.0//EN
CALSCALE:GREGORIAN
METHOD:PUBLISH
X-ORIGINAL-URL:https://www.nyrolatalo.fi
X-WR-CALDESC:Tapahtumat Nyr&ouml;l&auml;talo
REFRESH-INTERVAL;VALUE=DURATION:PT1H
X-Robots-Tag:noindex
X-PUBLISHED-TTL:PT1H
BEGIN:VTIMEZONE
TZID:Europe/Helsinki
BEGIN:DAYLIGHT
TZOFFSETFROM:+0200
TZOFFSETTO:+0300
TZNAME:EEST
DTSTART:20250330T010000
END:DAYLIGHT
BEGIN:STANDARD
TZOFFSETFROM:+0300
TZOFFSETTO:+0200
TZNAME:EET
DTSTART:20251026T010000
END:STANDARD
BEGIN:DAYLIGHT
TZOFFSETFROM:+0200
TZOFFSETTO:+0300
TZNAME:EEST
DTSTART:20260329T010000
END:DAYLIGHT
BEGIN:STANDARD
TZOFFSETFROM:+0300
TZOFFSETTO:+0200
TZNAME:EET
DTSTART:20261025T010000
END:STANDARD
BEGIN:DAYLIGHT
TZOFFSETFROM:+0200
TZOFFSETTO:+0300
TZNAME:EEST
DTSTART:20270328T010000
END:DAYLIGHT
BEGIN:STANDARD
TZOFFSETFROM:+0300
TZOFFSETTO:+0200
TZNAME:EET
DTSTART:20271031T010000
END:STANDARD
END:VTIMEZONE
BEGIN:VEVENT
DTSTART;TZID=Europe/Helsinki:20260105T180000
DTEND;TZID=Europe/Helsinki:20260105T190000
DTSTAMP:20260422T125127
CREATED:20260210T192648Z
LAST-MODIFIED:20260210T192648Z
UID:3207-1767636000-1767639600@www.nyrolatalo.fi
SUMMARY:JUMPPA
DESCRIPTION:
URL:https://www.nyrolatalo.fi/tapahtuma/jumppa-2/2026-01-05/
LOCATION:Jumppis Nyrölätalo\, Jatkolantie 11\, Jyväskylä
CATEGORIES:Liikunta
END:VEVENT
BEGIN:VEVENT
DTSTART;TZID=Europe/Helsinki:20260106T192000
DTEND;TZID=Europe/Helsinki:20260106T202000
DTSTAMP:20260422T125127
CREATED:20260210T192937Z
LAST-MODIFIED:20260210T192937Z
UID:3224-1767727200-1767730800@www.nyrolatalo.fi
SUMMARY:PILATES
DESCRIPTION:
URL:https://www.nyrolatalo.fi/tapahtuma/pilates-3/2026-01-06/
LOCATION:Jumppis Nyrölätalo\, Jatkolantie 11\, Jyväskylä
CATEGORIES:Liikunta
END:VEVENT
BEGIN:VEVENT
DTSTART;TZID=Europe/Helsinki:20260108T174500
DTEND;TZID=Europe/Helsinki:20260108T174500
DTSTAMP:20260422T125127
CREATED:20260210T194440Z
LAST-MODIFIED:20260210T194440Z
UID:3257-1767894300-1767894300@www.nyrolatalo.fi
SUMMARY:LIIKKARI PIENET 17.45-18.30 ISOT
DESCRIPTION:
URL:https://www.nyrolatalo.fi/tapahtuma/liikkari-pienet-17-45-18-30-isot/2026-01-08/
END:VEVENT
BEGIN:VEVENT
DTSTART;TZID=Europe/Helsinki:20260112T180000
DTEND;TZID=Europe/Helsinki:20260112T190000
DTSTAMP:20260422T125127
CREATED:20260210T192648Z
LAST-MODIFIED:20260210T192648Z
UID:3208-1768240800-1768244400@www.nyrolatalo.fi
SUMMARY:JUMPPA
DESCRIPTION:
URL:https://www.nyrolatalo.fi/tapahtuma/jumppa-2/2026-01-12/
LOCATION:Jumppis Nyrölätalo\, Jatkolantie 11\, Jyväskylä
CATEGORIES:Liikunta
END:VEVENT
BEGIN:VEVENT
DTSTART;TZID=Europe/Helsinki:20260113T192000
DTEND;TZID=Europe/Helsinki:20260113T202000
DTSTAMP:20260422T125127
CREATED:20260210T192937Z
LAST-MODIFIED:20260210T192937Z
UID:3225-1768332000-1768335600@www.nyrolatalo.fi
SUMMARY:PILATES
DESCRIPTION:
URL:https://www.nyrolatalo.fi/tapahtuma/pilates-3/2026-01-13/
LOCATION:Jumppis Nyrölätalo\, Jatkolantie 11\, Jyväskylä
CATEGORIES:Liikunta
END:VEVENT
BEGIN:VEVENT
DTSTART;TZID=Europe/Helsinki:20260114T170000
DTEND;TZID=Europe/Helsinki:20260114T200000
DTSTAMP:20260422T125127
CREATED:20251201T151320Z
LAST-MODIFIED:20251201T151320Z
UID:3172-1768410000-1768420800@www.nyrolatalo.fi
SUMMARY:Muorin kässäpaja
DESCRIPTION:Muorin kässäpaja on aikuisten kässäpaja. Nappaa käsityö mukaan tai tule tutustumaan toisten tekemisiin. \nMuorin kässäpajassa jumpataan myös poskilihaksia. \nTarjolla tietenkin kaffia\, teetä ja jotain pikkupurtavaa  hintaan 2 € \nTervetuloa mukaan! T Muori
URL:https://www.nyrolatalo.fi/tapahtuma/muorin-kassapaja/2026-01-14/
CATEGORIES:TYÖPAJA
END:VEVENT
BEGIN:VEVENT
DTSTART;TZID=Europe/Helsinki:20260115T174500
DTEND;TZID=Europe/Helsinki:20260115T174500
DTSTAMP:20260422T125127
CREATED:20260210T194440Z
LAST-MODIFIED:20260210T194440Z
UID:3258-1768499100-1768499100@www.nyrolatalo.fi
SUMMARY:LIIKKARI PIENET 17.45-18.30 ISOT
DESCRIPTION:
URL:https://www.nyrolatalo.fi/tapahtuma/liikkari-pienet-17-45-18-30-isot/2026-01-15/
END:VEVENT
BEGIN:VEVENT
DTSTART;TZID=Europe/Helsinki:20260116T170000
DTEND;TZID=Europe/Helsinki:20260116T213000
DTSTAMP:20260422T125127
CREATED:20251201T150349Z
LAST-MODIFIED:20251201T150349Z
UID:3162-1768582800-1768599000@www.nyrolatalo.fi
SUMMARY:NUORISOPAKU 17-21.30
DESCRIPTION:
URL:https://www.nyrolatalo.fi/tapahtuma/nuorisopaku-17-21-30/
LOCATION:Nyrölätalo\, Jatkolantia 11\, Jyväskylä\, 41140
CATEGORIES:Muut
END:VEVENT
BEGIN:VEVENT
DTSTART;TZID=Europe/Helsinki:20260119T180000
DTEND;TZID=Europe/Helsinki:20260119T190000
DTSTAMP:20260422T125127
CREATED:20260210T192648Z
LAST-MODIFIED:20260210T192648Z
UID:3209-1768845600-1768849200@www.nyrolatalo.fi
SUMMARY:JUMPPA
DESCRIPTION:
URL:https://www.nyrolatalo.fi/tapahtuma/jumppa-2/2026-01-19/
LOCATION:Jumppis Nyrölätalo\, Jatkolantie 11\, Jyväskylä
CATEGORIES:Liikunta
END:VEVENT
BEGIN:VEVENT
DTSTART;TZID=Europe/Helsinki:20260120T192000
DTEND;TZID=Europe/Helsinki:20260120T202000
DTSTAMP:20260422T125127
CREATED:20260210T192937Z
LAST-MODIFIED:20260210T192937Z
UID:3226-1768936800-1768940400@www.nyrolatalo.fi
SUMMARY:PILATES
DESCRIPTION:
URL:https://www.nyrolatalo.fi/tapahtuma/pilates-3/2026-01-20/
LOCATION:Jumppis Nyrölätalo\, Jatkolantie 11\, Jyväskylä
CATEGORIES:Liikunta
END:VEVENT
BEGIN:VEVENT
DTSTART;TZID=Europe/Helsinki:20260121T170000
DTEND;TZID=Europe/Helsinki:20260121T200000
DTSTAMP:20260422T125127
CREATED:20251201T151320Z
LAST-MODIFIED:20251201T151320Z
UID:3173-1769014800-1769025600@www.nyrolatalo.fi
SUMMARY:Muorin kässäpaja
DESCRIPTION:Muorin kässäpaja on aikuisten kässäpaja. Nappaa käsityö mukaan tai tule tutustumaan toisten tekemisiin. \nMuorin kässäpajassa jumpataan myös poskilihaksia. \nTarjolla tietenkin kaffia\, teetä ja jotain pikkupurtavaa  hintaan 2 € \nTervetuloa mukaan! T Muori
URL:https://www.nyrolatalo.fi/tapahtuma/muorin-kassapaja/2026-01-21/
CATEGORIES:TYÖPAJA
END:VEVENT
BEGIN:VEVENT
DTSTART;TZID=Europe/Helsinki:20260122T174500
DTEND;TZID=Europe/Helsinki:20260122T174500
DTSTAMP:20260422T125127
CREATED:20260210T194440Z
LAST-MODIFIED:20260210T194440Z
UID:3259-1769103900-1769103900@www.nyrolatalo.fi
SUMMARY:LIIKKARI PIENET 17.45-18.30 ISOT
DESCRIPTION:
URL:https://www.nyrolatalo.fi/tapahtuma/liikkari-pienet-17-45-18-30-isot/2026-01-22/
END:VEVENT
BEGIN:VEVENT
DTSTART;TZID=Europe/Helsinki:20260126T180000
DTEND;TZID=Europe/Helsinki:20260126T190000
DTSTAMP:20260422T125127
CREATED:20260210T192648Z
LAST-MODIFIED:20260210T192648Z
UID:3210-1769450400-1769454000@www.nyrolatalo.fi
SUMMARY:JUMPPA
DESCRIPTION:
URL:https://www.nyrolatalo.fi/tapahtuma/jumppa-2/2026-01-26/
LOCATION:Jumppis Nyrölätalo\, Jatkolantie 11\, Jyväskylä
CATEGORIES:Liikunta
END:VEVENT
BEGIN:VEVENT
DTSTART;TZID=Europe/Helsinki:20260127T192000
DTEND;TZID=Europe/Helsinki:20260127T202000
DTSTAMP:20260422T125127
CREATED:20260210T192937Z
LAST-MODIFIED:20260210T192937Z
UID:3227-1769541600-1769545200@www.nyrolatalo.fi
SUMMARY:PILATES
DESCRIPTION:
URL:https://www.nyrolatalo.fi/tapahtuma/pilates-3/2026-01-27/
LOCATION:Jumppis Nyrölätalo\, Jatkolantie 11\, Jyväskylä
CATEGORIES:Liikunta
END:VEVENT
BEGIN:VEVENT
DTSTART;TZID=Europe/Helsinki:20260128T170000
DTEND;TZID=Europe/Helsinki:20260128T200000
DTSTAMP:20260422T125127
CREATED:20251201T151320Z
LAST-MODIFIED:20251201T151320Z
UID:3174-1769619600-1769630400@www.nyrolatalo.fi
SUMMARY:Muorin kässäpaja
DESCRIPTION:Muorin kässäpaja on aikuisten kässäpaja. Nappaa käsityö mukaan tai tule tutustumaan toisten tekemisiin. \nMuorin kässäpajassa jumpataan myös poskilihaksia. \nTarjolla tietenkin kaffia\, teetä ja jotain pikkupurtavaa  hintaan 2 € \nTervetuloa mukaan! T Muori
URL:https://www.nyrolatalo.fi/tapahtuma/muorin-kassapaja/2026-01-28/
CATEGORIES:TYÖPAJA
END:VEVENT
BEGIN:VEVENT
DTSTART;TZID=Europe/Helsinki:20260129T174500
DTEND;TZID=Europe/Helsinki:20260129T174500
DTSTAMP:20260422T125127
CREATED:20260210T194440Z
LAST-MODIFIED:20260210T194440Z
UID:3260-1769708700-1769708700@www.nyrolatalo.fi
SUMMARY:LIIKKARI PIENET 17.45-18.30 ISOT
DESCRIPTION:
URL:https://www.nyrolatalo.fi/tapahtuma/liikkari-pienet-17-45-18-30-isot/2026-01-29/
END:VEVENT
END:VCALENDAR