BEGIN:VCALENDAR
VERSION:2.0
PRODID:-//Nyr&ouml;l&auml;talo - ECPv6.15.20//NONSGML v1.0//EN
CALSCALE:GREGORIAN
METHOD:PUBLISH
X-WR-CALNAME:Nyr&ouml;l&auml;talo
X-ORIGINAL-URL:https://www.nyrolatalo.fi
X-WR-CALDESC:Tapahtumat Nyr&ouml;l&auml;talo
REFRESH-INTERVAL;VALUE=DURATION:PT1H
X-Robots-Tag:noindex
X-PUBLISHED-TTL:PT1H
BEGIN:VTIMEZONE
TZID:Europe/Helsinki
BEGIN:DAYLIGHT
TZOFFSETFROM:+0200
TZOFFSETTO:+0300
TZNAME:EEST
DTSTART:20230326T010000
END:DAYLIGHT
BEGIN:STANDARD
TZOFFSETFROM:+0300
TZOFFSETTO:+0200
TZNAME:EET
DTSTART:20231029T010000
END:STANDARD
BEGIN:DAYLIGHT
TZOFFSETFROM:+0200
TZOFFSETTO:+0300
TZNAME:EEST
DTSTART:20240331T010000
END:DAYLIGHT
BEGIN:STANDARD
TZOFFSETFROM:+0300
TZOFFSETTO:+0200
TZNAME:EET
DTSTART:20241027T010000
END:STANDARD
BEGIN:DAYLIGHT
TZOFFSETFROM:+0200
TZOFFSETTO:+0300
TZNAME:EEST
DTSTART:20250330T010000
END:DAYLIGHT
BEGIN:STANDARD
TZOFFSETFROM:+0300
TZOFFSETTO:+0200
TZNAME:EET
DTSTART:20251026T010000
END:STANDARD
END:VTIMEZONE
BEGIN:VEVENT
DTSTART;TZID=Europe/Helsinki:20240502T174500
DTEND;TZID=Europe/Helsinki:20240502T193000
DTSTAMP:20260419T165710
CREATED:20240123T093840Z
LAST-MODIFIED:20240123T093840Z
UID:2344-1714671900-1714678200@www.nyrolatalo.fi
SUMMARY:PESISLIIKKARI
DESCRIPTION:
URL:https://www.nyrolatalo.fi/tapahtuma/pesisliikkari-29/2024-05-02/
LOCATION:Jumppis Nyrölätalo\, Jatkolantie 11\, Jyväskylä
CATEGORIES:Liikunta
END:VEVENT
BEGIN:VEVENT
DTSTART;TZID=Europe/Helsinki:20240425T174500
DTEND;TZID=Europe/Helsinki:20240425T193000
DTSTAMP:20260419T165710
CREATED:20240123T093840Z
LAST-MODIFIED:20240123T093840Z
UID:2343-1714067100-1714073400@www.nyrolatalo.fi
SUMMARY:PESISLIIKKARI
DESCRIPTION:
URL:https://www.nyrolatalo.fi/tapahtuma/pesisliikkari-29/2024-04-25/
LOCATION:Jumppis Nyrölätalo\, Jatkolantie 11\, Jyväskylä
CATEGORIES:Liikunta
END:VEVENT
BEGIN:VEVENT
DTSTART;TZID=Europe/Helsinki:20240328T174500
DTEND;TZID=Europe/Helsinki:20240328T193000
DTSTAMP:20260419T165710
CREATED:20240123T093840Z
LAST-MODIFIED:20240425T124537Z
UID:2276-1711647900-1711654200@www.nyrolatalo.fi
SUMMARY:PESISLIIKKARI
DESCRIPTION:
URL:https://www.nyrolatalo.fi/tapahtuma/pesisliikkari-29/2024-03-28/
LOCATION:Jumppis Nyrölätalo\, Jatkolantie 11\, Jyväskylä
CATEGORIES:Liikunta
END:VEVENT
END:VCALENDAR