BEGIN:VCALENDAR
VERSION:2.0
PRODID:-//Nyr&ouml;l&auml;talo - ECPv6.15.20//NONSGML v1.0//EN
CALSCALE:GREGORIAN
METHOD:PUBLISH
X-WR-CALNAME:Nyr&ouml;l&auml;talo
X-ORIGINAL-URL:https://www.nyrolatalo.fi
X-WR-CALDESC:Tapahtumat Nyr&ouml;l&auml;talo
REFRESH-INTERVAL;VALUE=DURATION:PT1H
X-Robots-Tag:noindex
X-PUBLISHED-TTL:PT1H
BEGIN:VTIMEZONE
TZID:Europe/Helsinki
BEGIN:DAYLIGHT
TZOFFSETFROM:+0200
TZOFFSETTO:+0300
TZNAME:EEST
DTSTART:20240331T010000
END:DAYLIGHT
BEGIN:STANDARD
TZOFFSETFROM:+0300
TZOFFSETTO:+0200
TZNAME:EET
DTSTART:20241027T010000
END:STANDARD
BEGIN:DAYLIGHT
TZOFFSETFROM:+0200
TZOFFSETTO:+0300
TZNAME:EEST
DTSTART:20250330T010000
END:DAYLIGHT
BEGIN:STANDARD
TZOFFSETFROM:+0300
TZOFFSETTO:+0200
TZNAME:EET
DTSTART:20251026T010000
END:STANDARD
BEGIN:DAYLIGHT
TZOFFSETFROM:+0200
TZOFFSETTO:+0300
TZNAME:EEST
DTSTART:20260329T010000
END:DAYLIGHT
BEGIN:STANDARD
TZOFFSETFROM:+0300
TZOFFSETTO:+0200
TZNAME:EET
DTSTART:20261025T010000
END:STANDARD
END:VTIMEZONE
BEGIN:VEVENT
DTSTART;TZID=Europe/Helsinki:20251127T174500
DTEND;TZID=Europe/Helsinki:20251127T193000
DTSTAMP:20260424T172446
CREATED:20251024T082301Z
LAST-MODIFIED:20251024T083522Z
UID:3128-1764265500-1764271800@www.nyrolatalo.fi
SUMMARY:LASTEN LIIKKAKERHOT
DESCRIPTION:
URL:https://www.nyrolatalo.fi/tapahtuma/liikkakerhot/2025-11-27/
LOCATION:Jumppis Nyrölätalo\, Jatkolantie 11\, Jyväskylä
CATEGORIES:Liikunta
END:VEVENT
BEGIN:VEVENT
DTSTART;TZID=Europe/Helsinki:20251120T174500
DTEND;TZID=Europe/Helsinki:20251120T193000
DTSTAMP:20260424T172446
CREATED:20251024T082301Z
LAST-MODIFIED:20251024T083521Z
UID:3127-1763660700-1763667000@www.nyrolatalo.fi
SUMMARY:LASTEN LIIKKAKERHOT
DESCRIPTION:
URL:https://www.nyrolatalo.fi/tapahtuma/liikkakerhot/2025-11-20/
LOCATION:Jumppis Nyrölätalo\, Jatkolantie 11\, Jyväskylä
CATEGORIES:Liikunta
END:VEVENT
BEGIN:VEVENT
DTSTART;TZID=Europe/Helsinki:20251113T174500
DTEND;TZID=Europe/Helsinki:20251113T193000
DTSTAMP:20260424T172446
CREATED:20251024T082301Z
LAST-MODIFIED:20251024T083521Z
UID:3126-1763055900-1763062200@www.nyrolatalo.fi
SUMMARY:LASTEN LIIKKAKERHOT
DESCRIPTION:
URL:https://www.nyrolatalo.fi/tapahtuma/liikkakerhot/2025-11-13/
LOCATION:Jumppis Nyrölätalo\, Jatkolantie 11\, Jyväskylä
CATEGORIES:Liikunta
END:VEVENT
BEGIN:VEVENT
DTSTART;TZID=Europe/Helsinki:20251106T174500
DTEND;TZID=Europe/Helsinki:20251106T193000
DTSTAMP:20260424T172446
CREATED:20251024T082301Z
LAST-MODIFIED:20251024T083521Z
UID:3125-1762451100-1762457400@www.nyrolatalo.fi
SUMMARY:LASTEN LIIKKAKERHOT
DESCRIPTION:
URL:https://www.nyrolatalo.fi/tapahtuma/liikkakerhot/2025-11-06/
LOCATION:Jumppis Nyrölätalo\, Jatkolantie 11\, Jyväskylä
CATEGORIES:Liikunta
END:VEVENT
BEGIN:VEVENT
DTSTART;TZID=Europe/Helsinki:20251030T174500
DTEND;TZID=Europe/Helsinki:20251030T193000
DTSTAMP:20260424T172446
CREATED:20251024T082301Z
LAST-MODIFIED:20251024T083521Z
UID:3124-1761846300-1761852600@www.nyrolatalo.fi
SUMMARY:LASTEN LIIKKAKERHOT
DESCRIPTION:
URL:https://www.nyrolatalo.fi/tapahtuma/liikkakerhot/2025-10-30/
LOCATION:Jumppis Nyrölätalo\, Jatkolantie 11\, Jyväskylä
CATEGORIES:Liikunta
END:VEVENT
BEGIN:VEVENT
DTSTART;TZID=Europe/Helsinki:20251023T174500
DTEND;TZID=Europe/Helsinki:20251023T193000
DTSTAMP:20260424T172446
CREATED:20251024T082301Z
LAST-MODIFIED:20251024T083520Z
UID:3123-1761241500-1761247800@www.nyrolatalo.fi
SUMMARY:LASTEN LIIKKAKERHOT
DESCRIPTION:
URL:https://www.nyrolatalo.fi/tapahtuma/liikkakerhot/2025-10-23/
LOCATION:Jumppis Nyrölätalo\, Jatkolantie 11\, Jyväskylä
CATEGORIES:Liikunta
END:VEVENT
BEGIN:VEVENT
DTSTART;TZID=Europe/Helsinki:20251009T174500
DTEND;TZID=Europe/Helsinki:20251009T193000
DTSTAMP:20260424T172446
CREATED:20251024T082301Z
LAST-MODIFIED:20251024T083520Z
UID:3122-1760031900-1760038200@www.nyrolatalo.fi
SUMMARY:LASTEN LIIKKAKERHOT
DESCRIPTION:
URL:https://www.nyrolatalo.fi/tapahtuma/liikkakerhot/2025-10-09/
LOCATION:Jumppis Nyrölätalo\, Jatkolantie 11\, Jyväskylä
CATEGORIES:Liikunta
END:VEVENT
BEGIN:VEVENT
DTSTART;TZID=Europe/Helsinki:20251002T174500
DTEND;TZID=Europe/Helsinki:20251002T193000
DTSTAMP:20260424T172446
CREATED:20251024T082301Z
LAST-MODIFIED:20251024T083520Z
UID:3121-1759427100-1759433400@www.nyrolatalo.fi
SUMMARY:LASTEN LIIKKAKERHOT
DESCRIPTION:
URL:https://www.nyrolatalo.fi/tapahtuma/liikkakerhot/2025-10-02/
LOCATION:Jumppis Nyrölätalo\, Jatkolantie 11\, Jyväskylä
CATEGORIES:Liikunta
END:VEVENT
BEGIN:VEVENT
DTSTART;TZID=Europe/Helsinki:20250925T174500
DTEND;TZID=Europe/Helsinki:20250925T193000
DTSTAMP:20260424T172446
CREATED:20251024T082301Z
LAST-MODIFIED:20251024T083519Z
UID:3120-1758822300-1758828600@www.nyrolatalo.fi
SUMMARY:LASTEN LIIKKAKERHOT
DESCRIPTION:
URL:https://www.nyrolatalo.fi/tapahtuma/liikkakerhot/2025-09-25/
LOCATION:Jumppis Nyrölätalo\, Jatkolantie 11\, Jyväskylä
CATEGORIES:Liikunta
END:VEVENT
END:VCALENDAR